BEGIN:VCALENDAR
VERSION:2.0
PRODID:-//ChamberMaster//Event Calendar 2.0//EN
METHOD:PUBLISH
X-PUBLISHED-TTL:P3D
REFRESH-INTERVAL:P3D
CALSCALE:GREGORIAN
BEGIN:VEVENT
DTSTART:20090701T000000Z
DTEND:20090701T030000Z
X-MICROSOFT-CDO-ALLDAYEVENT:FALSE
SUMMARY:Professional Development Work Shop: Surviving Tough Times
DESCRIPTION:FREE Professional Development Workshop: Surviving Tough Times  Learn how to survive the tough economic times with this FREE intensive workshop covering the following topics:Enhancing real profits\, controlling costs\, increasing operational effectiveness\, and\ntoughening up customer service delivery. This workshop will be held at6:00pm-9:00pm at CESDP 705 La Joya in Espanola
X-ALT-DESC;FMTTYPE=text/html:<div align="center"><div align="center"><font color="#000080" size="3"><strong>FREE Professional Development Workshop: Surviving Tough Times</strong></font></div><div align="center"><div style="margin: 0in 0in 10pt"><strong>&nbsp\;</strong></div><div style="margin: 0in 0in 10pt"><strong>&nbsp\;</strong></div><div style="margin: 0in 0in 10pt">Learn how to survive the tough economic times with this FREE intensive workshop covering the following topics:</div>Enhancing real profits\, controlling costs\, increasing operational effectiveness\, and<br />toughening up customer service delivery.</div><div align="center">&nbsp\;</div><div align="center"><div style="margin: 0in 0in 10pt">This workshop will be held at</div></div><div align="center">6:00pm-9:00pm at&nbsp\;CESDP 705 La Joya in Espanola</div></div>
LOCATION:CESDP706 La Joya St Espanola\, NM 87532
UID:e.379.64
SEQUENCE:3
DTSTAMP:20260423T023014Z
URL:http://santafehispanicchamber.sampleorg.com/events/details/professional-development-work-shop-surviving-tough-times-06-30-2009-64
END:VEVENT

END:VCALENDAR
