BEGIN:VCALENDAR
VERSION:2.0
PRODID:-//ChamberMaster//Event Calendar 2.0//EN
METHOD:PUBLISH
X-PUBLISHED-TTL:P3D
REFRESH-INTERVAL:P3D
CALSCALE:GREGORIAN
BEGIN:VEVENT
DTSTART:20100818T060000Z
DTEND:20100818T190000Z
X-MICROSOFT-CDO-ALLDAYEVENT:FALSE
SUMMARY:Quarterly Luncheon
DESCRIPTION:SFHCC Quarterly Luncheon with special guest speaker\, John Sanchez\, Republican Lt. Governor Candidate.
X-ALT-DESC;FMTTYPE=text/html:SFHCC Quarterly Luncheon with special guest speaker\, John Sanchez\, Republican Lt. Governor Candidate.
LOCATION:El Farol Restaurant 808 Canyon Road Santa Fe\, NM
UID:e.379.110
SEQUENCE:3
DTSTAMP:20260422T041554Z
URL:http://santafehispanicchamber.sampleorg.com/events/details/quarterly-luncheon-08-18-2010-110
END:VEVENT

END:VCALENDAR
