BEGIN:VCALENDAR
VERSION:2.0
PRODID:-//ChamberMaster//Event Calendar 2.0//EN
METHOD:PUBLISH
X-PUBLISHED-TTL:P3D
REFRESH-INTERVAL:P3D
CALSCALE:GREGORIAN
BEGIN:VEVENT
DTSTART:20100331T210000Z
DTEND:20100401T020000Z
X-MICROSOFT-CDO-ALLDAYEVENT:FALSE
SUMMARY:Santa Fe 400th -El Dia de la Gente de Santa Fe
DESCRIPTION:Reenactment of the reading of instructions by the Viceroy Don Luis de Velasco II to Don Pedro de Peralta\, newly appointed Governor of New Mexico.
X-ALT-DESC;FMTTYPE=text/html:Reenactment of the reading of instructions by the Viceroy Don Luis de Velasco II to Don Pedro de Peralta\, newly appointed Governor of New Mexico.
LOCATION:The Santa Fe Plaza Gazebo
UID:e.379.91
SEQUENCE:3
DTSTAMP:20260422T204204Z
URL:http://santafehispanicchamber.sampleorg.com/events/details/santa-fe-400th-el-dia-de-la-gente-de-santa-fe-03-31-2010-91
END:VEVENT

END:VCALENDAR
