BEGIN:VCALENDAR
VERSION:2.0
PRODID:-//ChamberMaster//Event Calendar 2.0//EN
METHOD:PUBLISH
X-PUBLISHED-TTL:P3D
REFRESH-INTERVAL:P3D
CALSCALE:GREGORIAN
BEGIN:VEVENT
DTSTART:20081007T173000Z
DTEND:20081007T190000Z
X-MICROSOFT-CDO-ALLDAYEVENT:FALSE
SUMMARY:Santa Fe Hispanic Chamber Education Committee - SFPS study session
DESCRIPTION:Santa Fe Public Schools Study Session  Student Achievment and Data Presentation  Presented by:Superintendent\, Bobbie Gutierrez& Dr. Melville Morgan   Sponsored by:  Santa Fe Hispanic Chamber& The SFHCC Education Committee
X-ALT-DESC;FMTTYPE=text/html:<div><span style="color: black\; font-family: 'Arial'\,'sans-serif'">&nbsp\;<strong><font color="#0099cc">Santa Fe Public Schools Study&nbsp\;Session </font></strong><div><font color="#0099cc">&nbsp\;</font><font size="4"><font color="#0099cc">Student Achievment and Data Presentation </font><div><font color="#0099cc">&nbsp\;</font></div><div><font color="#666633">Presented by:</font></div><div><font color="#666633">Superintendent\, Bobbie Gutierrez</font></div><div><font color="#666633">&amp\; Dr. Melville Morgan&nbsp\; </font><div><font color="#666633">&nbsp\;</font></div></div>Sponsored by: <div>&nbsp\;<font size="3">Santa Fe Hispanic Chamber</font></div><font size="3">&amp\; The SFHCC Education Committee</font><br /></font></div><o:p></o:p></span></div>
LOCATION:610 Alta Vista Santa Fe Public School Administration Offices
UID:e.379.4
SEQUENCE:3
DTSTAMP:20260423T150233Z
URL:http://santafehispanicchamber.sampleorg.com/events/details/santa-fe-hispanic-chamber-education-committee-sfps-study-session-10-07-2008-4
END:VEVENT

END:VCALENDAR
