BEGIN:VCALENDAR
VERSION:2.0
PRODID:-//ChamberMaster//Event Calendar 2.0//EN
METHOD:PUBLISH
X-PUBLISHED-TTL:P3D
REFRESH-INTERVAL:P3D
CALSCALE:GREGORIAN
BEGIN:VEVENT
DTSTART;VALUE=DATE:20111116
DTEND;VALUE=DATE:20111117
TRANSP:TRANSPARENT
X-MICROSOFT-CDO-ALLDAYEVENT:TRUE
SUMMARY:Santa Fe Hispanic Chamber of Commerce Autumn Harvest Event
DESCRIPTION:Autumn Harvest of Food and Drink\n\ncome out and share some food and drink\n\nand enjoy this Chamber networking event!
X-ALT-DESC;FMTTYPE=text/html:<span style="font-size: 16px"><span style="font-family: tahoma">Autumn Harvest of Food and Drink<br />\ncome out and share some food and drink<br />\nand enjoy this Chamber networking event!</span></span>
LOCATION:Harley-Davidson of Santa Fe 4360 Rodeo Road Santa Fe\, NM
UID:e.379.139
SEQUENCE:3
DTSTAMP:20260421T024358Z
URL:http://santafehispanicchamber.sampleorg.com/events/details/santa-fe-hispanic-chamber-of-commerce-autumn-harvest-event-11-16-2011-139
END:VEVENT

END:VCALENDAR
