BEGIN:VCALENDAR
VERSION:2.0
PRODID:-//ChamberMaster//Event Calendar 2.0//EN
METHOD:PUBLISH
X-PUBLISHED-TTL:P3D
REFRESH-INTERVAL:P3D
CALSCALE:GREGORIAN
BEGIN:VEVENT
DTSTART:20080916T233000Z
DTEND:20080917T013000Z
X-MICROSOFT-CDO-ALLDAYEVENT:FALSE
SUMMARY:Santa Fe Hispanic Chamber of Commerce Meeting
DESCRIPTION:Santa Fe Hispanic Chamber of CommerceMonthly meetingNetworking and Introductions of all presentPlease Join Us!
X-ALT-DESC;FMTTYPE=text/html:<div><span style="font-weight: bold"><p><font face="Verdana" size="4">Santa Fe Hispanic Chamber of Commerce</font></p><p><font face="Verdana" size="4">Monthly meeting</font></p><p><font face="Verdana" size="4">Networking and Introductions of all present</font></p></span><span style="font-weight: bold"><h1><font face="Verdana" size="4">Please Join Us!</font></h1></span></div>
LOCATION:The Lodge of Santa Fe (previously the Radisson on the Hill)Thanks to BJ Dunn\, General Manger
UID:e.379.1
SEQUENCE:3
DTSTAMP:20260423T164219Z
URL:http://santafehispanicchamber.sampleorg.com/events/details/santa-fe-hispanic-chamber-of-commerce-meeting-09-16-2008-1
END:VEVENT

END:VCALENDAR
