BEGIN:VCALENDAR
VERSION:2.0
PRODID:-//ChamberMaster//Event Calendar 2.0//EN
METHOD:PUBLISH
X-PUBLISHED-TTL:P3D
REFRESH-INTERVAL:P3D
CALSCALE:GREGORIAN
BEGIN:VEVENT
DTSTART;VALUE=DATE:20100201
DTEND;VALUE=DATE:20100301
TRANSP:TRANSPARENT
X-MICROSOFT-CDO-ALLDAYEVENT:TRUE
SUMMARY:Santa Fe Small Business Development Center
DESCRIPTION:Information Session for CRS TaxpayersCovers the basic taxes\, proper record keeping and how to file reports properly to avoid penalties. See Center website for times and location. \n Guerrilla Marketing Class IISecond in the series of 6 workshops. Create a Guerrilla Marketing plan. Learn how to get an e-commerce website up and running with little operating money. Deadline for payment is February 5th by 4pm. See Center website for times and location. \n February 16th - Guerrilla Marketing Class First in series of 6 workshops. Learn unique marketing tools for maximum results. Discuss crucial points of a guerrilla marketer. Obtain facts about ?Your Guerrilla Club? & how to join it. All workshops are required for certificate of completion. Deadline for payment is February 10th by 5pm. See Center website for time and location. \n Guerrilla Marketing Class IISecond in the series of 6 workshops. Create a Guerrilla Marketing plan. Learn how to get an e-commerce website up and running with little operating money. Deadline for payment is February 17th by 5pm. See Center website for time and location.\nFebruary 25th  Marketing to the MediaLearn how to work with journalists to create effective press coverage. Make the most effective use of your advertising and marketing dollars. See Center website for time and location. \n February 26th  Steps to Starting a Small BusinessAn overview of the necessary steps to take in starting a business. You will learn the proper sequence to follow in planning your business and forming your company. See Center website for time and location.
X-ALT-DESC;FMTTYPE=text/html:<div><strong>Information Session for CRS Taxpayers</strong></div><div>Covers the basic taxes\, proper record keeping and how to file reports properly to avoid penalties. See Center website for times and location. <br />&nbsp\;</div><div><strong>Guerrilla Marketing Class II</strong></div><div>Second in the series of 6 workshops. Create a Guerrilla Marketing plan. Learn how to get an e-commerce website up and running with little operating money. Deadline for payment is February 5th by 4pm. See Center website for times and location. <br />&nbsp\;</div><div><strong>February 16th - Guerrilla Marketing Class </strong></div><div>First in series of 6 workshops. Learn unique marketing tools for maximum results. Discuss crucial points of a guerrilla marketer. Obtain facts about ?Your Guerrilla Club? &amp\; how to join it. All workshops are required for certificate of completion. Deadline for payment is February 10th by 5pm. See Center website for time and location. <br />&nbsp\;</div><div><strong>Guerrilla Marketing Class II</strong></div><div>Second in the series of 6 workshops. Create a Guerrilla Marketing plan. Learn how to get an e-commerce website up and running with little operating money. Deadline for payment is February 17th by 5pm. See Center website for time and location.</div><div><br /><strong>February 25th&nbsp\; Marketing to the Media</strong></div><div>Learn how to work with journalists to create effective press coverage. Make the most effective use of your advertising and marketing dollars. See Center website for time and location. <br />&nbsp\;</div><div><strong>February 26th&nbsp\; Steps to Starting a Small Business</strong></div><div>An overview of the necessary steps to take in starting a business. You will learn the proper sequence to follow in planning your business and forming your company. See Center website for time and location. <br />&nbsp\;</div>
LOCATION:
UID:e.379.87
SEQUENCE:3
DTSTAMP:20260422T135552Z
URL:http://santafehispanicchamber.sampleorg.com/events/details/santa-fe-small-business-development-center-02-01-2010-87
END:VEVENT

END:VCALENDAR
