BEGIN:VCALENDAR
VERSION:2.0
PRODID:-//ChamberMaster//Event Calendar 2.0//EN
METHOD:PUBLISH
X-PUBLISHED-TTL:P3D
REFRESH-INTERVAL:P3D
CALSCALE:GREGORIAN
BEGIN:VEVENT
DTSTART;VALUE=DATE:20100401
DTEND;VALUE=DATE:20100501
TRANSP:TRANSPARENT
X-MICROSOFT-CDO-ALLDAYEVENT:TRUE
SUMMARY:Santa Fe Small Business Development Center Workshop
DESCRIPTION:April 13th ? Information Session for CRS Taxpayers\nCovers the basic taxes\, proper record keeping and how to file reports properly to avoid penalties.  See Center website for times and location.\n\n April 14th ? Steps to Starting a Small Business\n An overview of the necessary steps to take in starting a business.  You will learn the proper sequence to follow in planning your business and forming your company.  See Center website for time and location.\n\n April 20th ? Sesión de información para contribuyentes CRS\n Cubrirá los impuestos básicos\, la manera adecuada de mantener sus registros contables y como presentar\n\nsus reportes fiscales para evitar multas\n\n April 22nd ? Guerrilla Marketing Class IV\n Fourth in series of 6 workshops.  Learn 5 more tools.  Test whether you would make a good partner.  Develop a detailed plan to turn word of mouth viral.  Deadline for payment is 4/16. See Center website for time and location.\n\n April 30th ? Steps to Starting a Small Business\nAn overview of the necessary steps to take in starting a business.  You will learn the proper sequence to follow in planning your business and forming your company.  See Center website for time and location.
X-ALT-DESC;FMTTYPE=text/html:</font></div><div> </div><div><font size="2"><strong>April 13th ? Information Session for CRS Taxpayers</strong></font></div><div><font size="2"><strong><br /></strong>Covers the basic taxes\, proper record keeping and how to file reports properly to avoid penalties.  See Center website for times and location.\n<br></font></div><div> </div><div><font size="2"><strong>April 14th ? Steps to Starting a Small Business</strong></font></div><div><font size="2"><strong><br /></strong> An overview of the necessary steps to take in starting a business.  You will learn the proper sequence to follow in planning your business and forming your company.  See Center website for time and location.\n<br></font></div><div> </div><div><font size="2"><strong>April 20th ? Sesión de información para contribuyentes CRS</strong></font></div><div><font size="2"><strong><br /></strong> Cubrirá los impuestos básicos\, la manera adecuada de mantener sus registros contables y como presentar\n<br>sus reportes fiscales para evitar multas\n<br></font></div><div> </div><div><font size="2"><strong>April 22nd ? Guerrilla Marketing Class IV</strong></font></div><div><font size="2"><strong><br /></strong> Fourth in series of 6 workshops.  Learn 5 more tools.  Test whether you would make a good partner.  Develop a detailed plan to turn word of mouth viral.  Deadline for payment is 4/16. See Center website for time and location.\n<br></font></div><div> </div><div><font size="2"><strong>April 30th ? Steps to Starting a Small Business</strong></font></div><div><font size="2"><strong><br /></strong>An overview of the necessary steps to take in starting a business.  You will learn the proper sequence to follow in planning your business and forming your company.  See Center website for time and location.\n<br>
LOCATION:
UID:e.379.93
SEQUENCE:3
DTSTAMP:20260422T120740Z
URL:http://santafehispanicchamber.sampleorg.com/events/details/santa-fe-small-business-development-center-workshop-04-01-2010-93
END:VEVENT

END:VCALENDAR
