BEGIN:VCALENDAR
VERSION:2.0
PRODID:-//ChamberMaster//Event Calendar 2.0//EN
METHOD:PUBLISH
X-PUBLISHED-TTL:P3D
REFRESH-INTERVAL:P3D
CALSCALE:GREGORIAN
BEGIN:VEVENT
DTSTART;VALUE=DATE:20100104
DTEND;VALUE=DATE:20100201
TRANSP:TRANSPARENT
X-MICROSOFT-CDO-ALLDAYEVENT:TRUE
SUMMARY:Santa Fe Small Business Development Center Workshops
DESCRIPTION:January 12th - Information Session for CRS Taxpayers\nCovers the basic taxes\, proper record keeping and how to file reports properly to avoid penalties.  See Center website for times and location.\n\n January 20th - Understanding Financial Statements\nCovers the meaning and interpretation of the four main financial statements:  (1) balance sheet\; (2) income statement\; (3) cash flow  statement\; (4) statement of shareholders equity.  Attendees should have a basic understanding and familiarity with the financial statements.  See Center website for times and location.\n\n January 22nd - Steps to Starting a Small Business\nAn overview of the necessary steps to take in starting a business.  You will learn the proper sequence to follow in planning your business\, from naming to marketing to choosing a legal entity.  See Center website for time and location.\n\n January 26th - Guerrilla Marketing Class I\nThis is the first of a series of 6 workshops to learn unconventional marketing tools intended to get maximum results from minimal resources. Learn 5 essential tools to start. Learn the implementation methods. Grade yourself as a Guerrilla marketer. Class involvement and role play a must. Learn about "Your Guerrilla Club" and how to join it. Learn and discuss the necessary attributes of a guerrilla marketeer. What does the future hold for you as to technology\, demographics\, and society? For those attending\, receive a 1hour free teleconference. This is a sequential series that requires attendance at the previous class to be eligible for the following class(s). A certificate will be issued upon completion of all 6 workshops.  See Center website for time and location.\n\n January 28th - Schedule C Can Get You Into Trouble\nSchedule-C's are a top priority for IRS audits since they are the #1 source of under reported income. Get the information you need to stay out of trouble: Hobby rules and how they can affect you\; How incorrect activity codes can cause trouble\; Husband and wife rules for sole proprietorship\; Employees vs. contract labor\; The importance of an EIN\, Paying personal expenses out of the business account\; NM Scope Audits\; How to avoid the C-span audit.  See Center website for time and location.
X-ALT-DESC;FMTTYPE=text/html:</font></div><div> </div><div><font size="2"><strong>January 12th - Information Session for CRS Taxpayers</strong></font></div><div><font size="2"><strong><br /></strong>Covers the basic taxes\, proper record keeping and how to file reports properly to avoid penalties.  See Center website for times and location.\n<br></font></div><div> </div><div><font size="2"><strong>January 20th - Understanding Financial Statements</strong></font></div><div><font size="2"><strong><br /></strong>Covers the meaning and interpretation of the four main financial statements:  (1) balance sheet\; (2) income statement\; (3) cash flow  statement\; (4) statement of shareholders equity.  Attendees should have a basic understanding and familiarity with the financial statements.  See Center website for times and location.\n<br></font></div><div> </div><div><font size="2"><strong>January 22nd - Steps to Starting a Small Business</strong></font></div><div><font size="2"><strong><br /></strong>An overview of the necessary steps to take in starting a business.  You will learn the proper sequence to follow in planning your business\, from naming to marketing to choosing a legal entity.  See Center website for time and location.\n<br></font></div><div> </div><div><font size="2"><strong>January 26th - Guerrilla Marketing Class I</strong></font></div><div><font size="2"><strong><br /></strong>This is the first of a series of 6 workshops to learn unconventional marketing tools intended to get maximum results from minimal resources. Learn 5 essential tools to start. Learn the implementation methods. Grade yourself as a Guerrilla marketer. Class involvement and role play a must. Learn about "Your Guerrilla Club" and how to join it. Learn and discuss the necessary attributes of a guerrilla marketeer. What does the future hold for you as to technology\, demographics\, and society? For those attending\, receive a 1hour free teleconference. This is a sequential series that requires attendance at the previous class to be eligible for the following class(s). A certificate will be issued upon completion of all 6 workshops.  See Center website for time and location.\n<br></font></div><div> </div><div><font size="2"><strong>January 28th - Schedule C Can Get You Into Trouble</strong></font></div><div><font size="2"><strong><br /></strong>Schedule-C's are a top priority for IRS audits since they are the #1 source of under reported income. Get the information you need to stay out of trouble: Hobby rules and how they can affect you\; How incorrect activity codes can cause trouble\; Husband and wife rules for sole proprietorship\; Employees vs. contract labor\; The importance of an EIN\, Paying personal expenses out of the business account\; NM Scope Audits\; How to avoid the C-span audit.  See Center website for time and location.<br>
LOCATION:
UID:e.379.86
SEQUENCE:3
DTSTAMP:20260422T171908Z
URL:http://santafehispanicchamber.sampleorg.com/events/details/santa-fe-small-business-development-center-workshops-01-04-2010-86
END:VEVENT

END:VCALENDAR
