BEGIN:VCALENDAR
VERSION:2.0
PRODID:-//ChamberMaster//Event Calendar 2.0//EN
METHOD:PUBLISH
X-PUBLISHED-TTL:P3D
REFRESH-INTERVAL:P3D
CALSCALE:GREGORIAN
BEGIN:VEVENT
DTSTART;VALUE=DATE:20100303
DTEND;VALUE=DATE:20100401
TRANSP:TRANSPARENT
X-MICROSOFT-CDO-ALLDAYEVENT:TRUE
SUMMARY:Santa Fe Small Business Development Center Workshops
DESCRIPTION:March 9th ? Information Session for CRS Taxpayers\n Covers the basic taxes and how to file reports properly to avoid penalties. Topics include explanations of Gross Receipts Tax (GRT)\, compensating tax\, withholding tax\, the CRS Filer?s Kit and proper use of Nontaxable Transaction Certificates (NTTC).  See center website for time and location.\n\n\nMarch 10th ? Steps to Starting a Small Business\nOverview of the necessary steps to take in starting a business.  You will learn the proper sequence to follow in planning your business\, from naming to marketing to legal entity.\n\n\nMarch 11th ? Guerrilla Marketing Class III\nThird in series of 6 classes. Learn 5 more essential tools and implement them: data base collection\, attitudes attributes\, 16 core competencies of a Guerrilla Marketeer\, design newsletters\, coupons\, etc. and how to sustain a 6 month marketing plan.\n\n\nMarch 18th ? Marketing to the Media\nLearn how to earn great attention from the media.  The presenter works with a journalist to train participants in the art of creating winning stories about their businesses\, their non-profits\, or themselves\, then places those stories with the right journalists.  Make the most effective use of your advertising and marketing dollars.\n\n\nMarch 23rd  ? Guerrilla Marketing Class III \n Third in series of 6 classes. Learn 5 more essential tools and implement them: data base collection\, attitudes attributes\, 16 core competencies of a Guerrilla Marketeer\, design newsletters\, coupons\, etc. and how to sustain a 6 month marketing plan.\n\n\nMarch 26th ? Steps to Starting a Small Business\nOverview of the necessary steps to take in starting a business.  You will learn the proper sequence to follow in planning your business\, from naming to marketing to legal entity.
X-ALT-DESC;FMTTYPE=text/html:</div><div><font size="2"><strong>March 9th ? Information Session for CRS Taxpayers</strong></font></div><div><font size="2"><strong><br /></strong> Covers the basic taxes and how to file reports properly to avoid penalties. Topics include explanations of Gross Receipts Tax (GRT)\, compensating tax\, withholding tax\, the CRS Filer?s Kit and proper use of Nontaxable Transaction Certificates (NTTC).  See center website for time and location.<br /></font></div>\n<br></div><div><font size="2"><strong>March 10th ? Steps to Starting a Small Business</strong></font></div><div><font size="2"><strong><br /></strong>Overview of the necessary steps to take in starting a business.  You will learn the proper sequence to follow in planning your business\, from naming to marketing to legal entity.<br /></font></div>\n<br></div><div><font size="2"><strong>March 11th ? Guerrilla Marketing Class III</strong></font></div><div><font size="2"><strong><br /></strong>Third in series of 6 classes. Learn 5 more essential tools and implement them: data base collection\, attitudes attributes\, 16 core competencies of a Guerrilla Marketeer\, design newsletters\, coupons\, etc. and how to sustain a 6 month marketing plan.<br /></font></div>\n<br></div><div><font size="2"><strong>March 18th ? Marketing to the Media</strong></font></div><div><font size="2"><strong><br /></strong>Learn how to earn great attention from the media.  The presenter works with a journalist to train participants in the art of creating winning stories about their businesses\, their non-profits\, or themselves\, then places those stories with the right journalists.  Make the most effective use of your advertising and marketing dollars.<br /></font></div>\n<br></div><div><font size="2"><strong>March 23rd  ? Guerrilla Marketing Class III </strong></font></div><div><font size="2"><strong><br /></strong> Third in series of 6 classes. Learn 5 more essential tools and implement them: data base collection\, attitudes attributes\, 16 core competencies of a Guerrilla Marketeer\, design newsletters\, coupons\, etc. and how to sustain a 6 month marketing plan.<br /></font></div>\n<br></div><div><font size="2"><strong>March 26th ? Steps to Starting a Small Business</strong></font></div><div><font size="2"><strong><br /></strong>Overview of the necessary steps to take in starting a business.  You will learn the proper sequence to follow in planning your business\, from naming to marketing to legal entity.<br /></font></div>\n<br>
LOCATION:6401 S. Richards Ave.
UID:e.379.89
SEQUENCE:3
DTSTAMP:20260422T135643Z
URL:http://santafehispanicchamber.sampleorg.com/events/details/santa-fe-small-business-development-center-workshops-03-03-2010-89
END:VEVENT

END:VCALENDAR
