BEGIN:VCALENDAR
VERSION:2.0
PRODID:-//ChamberMaster//Event Calendar 2.0//EN
METHOD:PUBLISH
X-PUBLISHED-TTL:P3D
REFRESH-INTERVAL:P3D
CALSCALE:GREGORIAN
BEGIN:VEVENT
DTSTART:20090324T143000Z
DTEND:20090327T063000Z
X-MICROSOFT-CDO-ALLDAYEVENT:FALSE
SUMMARY:Santa Fe Small Business Development Center Workshops
DESCRIPTION:March 24th - Learn basic recruiting and interview techniques and prevent the cost of a bad hire. This hands-on workshop will teach you the strategies and techniques to prevent you from hiring the wrong employee. As a small business owner\, you will learn to build an outstanding team and become an expert at recruiting and retaining an excellent staff. This seminar will teach you to avoid the costly mistakes of a bad hire and prevent employee turnover. Speaker: Rosanne M. Roberts\, R.M. Roberts and Associates  March 25th - Fund Raising Boot Camp \nThis workshop will be very interactive with emphasis on how to ask for money effectively\, how to make an in-person pitch\, and tools for reducing the anxiety of asking through role-playing. Come prepared to work through all your fears! The workshop will be held in the community room of the Los Alamos National Bank at 301 Griffin Street. Please park off site as they have very limited parking for customers only. Parking is available at the school site about 2 blocks down Griffin Street from the bank.  March 27th - Steps to Starting a Small Business \nThis is an overview of the necessary steps to take in starting a business. You will learn the proper sequence to follow in planning your business\, from naming to marketing to legal entity.
X-ALT-DESC;FMTTYPE=text/html:<div>&nbsp\;</div><div><strong>March 24th - Learn basic recruiting and interview techniques and prevent the cost of a bad hire.</strong></div><div>&nbsp\;</div><div><font size="2">This hands-on workshop will teach you the strategies and techniques to prevent you from hiring the wrong employee. As a small business owner\, you will learn to build an outstanding team and become an expert at recruiting and retaining an excellent staff. This seminar will teach you to avoid the costly mistakes of a bad hire and prevent employee turnover. Speaker: Rosanne M. Roberts\, R.M. Roberts and Associates </font></div><div>&nbsp\;</div><div><font size="2"><strong>March 25th</strong> - </font><font size="2"><strong>Fund Raising Boot Camp </strong></font></div><div><font size="2"><strong><br /></strong>This workshop will be very interactive with emphasis on how to ask for money effectively\, how to make an in-person pitch\, and tools for reducing the anxiety of asking through role-playing. Come prepared to work through all your fears! The workshop will be held in the community room of the Los Alamos National Bank at 301 Griffin Street. Please park off site as they have very limited parking for customers only. Parking is available at the school site about 2 blocks down Griffin Street from the bank. </font></div><div>&nbsp\;</div><div><font size="2"><strong>March 27th</strong> - <strong>Steps to Starting a Small Business </strong></font></div><div><font size="2"><strong><br /></strong>This is an overview of the necessary steps to take in starting a business. You will learn the proper sequence to follow in planning your business\, from naming to marketing to legal entity. <br /></font></div>
LOCATION:
UID:e.379.23
SEQUENCE:3
DTSTAMP:20260423T072049Z
URL:http://santafehispanicchamber.sampleorg.com/events/details/santa-fe-small-business-development-center-workshops-03-24-2009-23
END:VEVENT

END:VCALENDAR
