BEGIN:VCALENDAR
VERSION:2.0
PRODID:-//ChamberMaster//Event Calendar 2.0//EN
METHOD:PUBLISH
X-PUBLISHED-TTL:P3D
REFRESH-INTERVAL:P3D
CALSCALE:GREGORIAN
BEGIN:VEVENT
DTSTART;VALUE=DATE:20090408
DTEND;VALUE=DATE:20090430
TRANSP:TRANSPARENT
X-MICROSOFT-CDO-ALLDAYEVENT:TRUE
SUMMARY:Santa Fe Small Business Development Center Workshops
DESCRIPTION:April 8th - Board and Staff Relationships\nExamines the roles and responsibilities of Board and Staff\, how to manage relationships with stakeholders\, creating alignment within your organization that increases productivity\, and how to increase management effectiveness.  See Center website for times and location.\n\n April 16th\, April 23rd\, & April 30th - Peachtree Accounting\nThree sessions working hands on with Peachtree software.  Topics include: company setup\, accounts receivable\, accounts payable\, payroll\, & financial statements.  REQUIRES WORKING KNOWLEDGE OF ACCOUNTING.  See Center website for times and location.\n\n April 21st - Information Session for CRS Taxpayers\nCovers the basic taxes\, proper record keeping and how to file reports properly to avoid penalties.  See Center website for times and location.\n\n April 24th - Steps to Starting a Small Business\nAn overview of the necessary steps to take in starting a business.  You will learn the proper sequence to follow in planning your business\, from naming to marketing to choosing a legal entity.  See Center website for time and location.\n\n April 28th - Managing a Home Based Business\nIdentify and avoid the pitfalls of working from home.  Issues include time management\, organizational issues\, & goal setting.  See Center website for time and location.\n\n April 29th - Collaboration Strategies for Nonprofits\nIntroduces strategies for strengthening your organization through collaboration and strategic alliances with other nonprofits.  See Center website for time and location.
X-ALT-DESC;FMTTYPE=text/html:</font></div><div> </div><div><font size="2"><strong>April 8th - Board and Staff Relationships</strong></font></div><div><font size="2"><strong><br /></strong>Examines the roles and responsibilities of Board and Staff\, how to manage relationships with stakeholders\, creating alignment within your organization that increases productivity\, and how to increase management effectiveness.  See Center website for times and location.\n\n</font></div><div> </div><div><font size="2"><strong>April 16th\, April 23rd\, & April 30th - Peachtree Accounting</strong></font></div><div><font size="2"><strong><br /></strong>Three sessions working hands on with Peachtree software.  Topics include: company setup\, accounts receivable\, accounts payable\, payroll\, & financial statements.  REQUIRES WORKING KNOWLEDGE OF ACCOUNTING.  See Center website for times and location.\n\n</font></div><div> </div><div><font size="2"><strong>April 21st - Information Session for CRS Taxpayers</strong></font></div><div><font size="2"><strong><br /></strong>Covers the basic taxes\, proper record keeping and how to file reports properly to avoid penalties.  See Center website for times and location.\n\n</font></div><div> </div><div><font size="2"><strong>April 24th - Steps to Starting a Small Business</strong></font></div><div><font size="2"><strong><br /></strong>An overview of the necessary steps to take in starting a business.  You will learn the proper sequence to follow in planning your business\, from naming to marketing to choosing a legal entity.  See Center website for time and location.\n\n</font></div><div> </div><div><font size="2"><strong>April 28th - Managing a Home Based Business</strong></font></div><div><font size="2"><strong><br /></strong>Identify and avoid the pitfalls of working from home.  Issues include time management\, organizational issues\, & goal setting.  See Center website for time and location.\n\n</font></div><div> </div><div><font size="2"><strong>April 29th - Collaboration Strategies for Nonprofits</strong></font></div><div><font size="2"><strong><br /></strong>Introduces strategies for strengthening your organization through collaboration and strategic alliances with other nonprofits.  See Center website for time and location. <br /></font></div>\n
LOCATION:Due to limited space we have moved some of our workshop locations to the Santa Fe Business Incubator at 3900 Paseo Del Sol. For more info. call 428-1343
UID:e.379.25
SEQUENCE:3
DTSTAMP:20260423T053745Z
URL:http://santafehispanicchamber.sampleorg.com/events/details/santa-fe-small-business-development-center-workshops-04-08-2009-25
END:VEVENT

END:VCALENDAR
