BEGIN:VCALENDAR
VERSION:2.0
PRODID:-//ChamberMaster//Event Calendar 2.0//EN
METHOD:PUBLISH
X-PUBLISHED-TTL:P3D
REFRESH-INTERVAL:P3D
CALSCALE:GREGORIAN
BEGIN:VEVENT
DTSTART;VALUE=DATE:20090501
DTEND;VALUE=DATE:20090601
TRANSP:TRANSPARENT
X-MICROSOFT-CDO-ALLDAYEVENT:TRUE
SUMMARY:Santa Fe Small Business Development Center Workshops
DESCRIPTION:May  6th - Collaboration Strategies for Nonprofits Part II\nThis is a continuation of the previous workshop with more in-depth information about other types of partnerships such as joint ventures\, management service organizations\, even possible mergers or acquisitions between nonprofits.  See Center website for times and location.   May 12th - Information Session for CRS Taxpayers\nCovers the basic taxes\, proper record keeping and how to file reports properly to avoid penalties.  See Center website for times and location.   May 19\, 21\, & 26th - Peachtree Accounting\nThree sessions working hands on with Peachtree software.  Topics include: company setup\, accounts receivable\, accounts payable\, payroll\, & financial statements.  REQUIRES WORKING KNOWLEDGE OF ACCOUNTING.  See Center website for times and location.   May 29th - Steps to Starting a Small Business\nAn overview of the necessary steps to take in starting a business.  You will learn the proper sequence to follow in planning your business\, from naming to marketing to choosing a legal entity.  See Center website for time and location.
X-ALT-DESC;FMTTYPE=text/html:<div>&nbsp\;</div><div><font size="2"><strong>May  6th - Collaboration Strategies for Nonprofits Part II</strong></font></div><div><font size="2"><strong><br /></strong>This is a continuation of the previous workshop with more in-depth information about other types of partnerships such as joint ventures\, management service organizations\, even possible mergers or acquisitions between nonprofits.  See Center website for times and location. </font></div><div>&nbsp\;</div><div>&nbsp\;</div><div><font size="2"><strong>May 12th - Information Session for CRS Taxpayers</strong></font></div><div><font size="2"><strong><br /></strong>Covers the basic taxes\, proper record keeping and how to file reports properly to avoid penalties.  See Center website for times and location. </font></div><div>&nbsp\;</div><div>&nbsp\;</div><div><font size="2"><strong>May 19\, 21\, &amp\; 26th - Peachtree Accounting</strong></font></div><div><font size="2"><strong><br /></strong>Three sessions working hands on with Peachtree software.  Topics include: company setup\, accounts receivable\, accounts payable\, payroll\, &amp\; financial statements.  REQUIRES WORKING KNOWLEDGE OF ACCOUNTING.  See Center website for times and location. </font></div><div>&nbsp\;</div><div>&nbsp\;</div><div><font size="2"><strong>May 29th - Steps to Starting a Small Business</strong></font></div><div><font size="2"><strong><br /></strong>An overview of the necessary steps to take in starting a business.  You will learn the proper sequence to follow in planning your business\, from naming to marketing to choosing a legal entity.  See Center website for time and location.  			</font></div>
LOCATION:6401 S. Richards Ave.
UID:e.379.29
SEQUENCE:3
DTSTAMP:20260423T035322Z
URL:http://santafehispanicchamber.sampleorg.com/events/details/santa-fe-small-business-development-center-workshops-05-01-2009-29
END:VEVENT

END:VCALENDAR
