BEGIN:VCALENDAR
VERSION:2.0
PRODID:-//ChamberMaster//Event Calendar 2.0//EN
METHOD:PUBLISH
X-PUBLISHED-TTL:P3D
REFRESH-INTERVAL:P3D
CALSCALE:GREGORIAN
BEGIN:VEVENT
DTSTART;VALUE=DATE:20100501
DTEND;VALUE=DATE:20100601
TRANSP:TRANSPARENT
X-MICROSOFT-CDO-ALLDAYEVENT:TRUE
SUMMARY:Santa Fe Small Business Development Center Workshops
DESCRIPTION:May 11th ? Information Session for CRS Taxpayers\nCovers the basic taxes\, proper record keeping and how to file reports properly to avoid penalties.  See Center website for times and location.\n\n May 12th ? Steps to Starting a Small Business\n An overview of the necessary steps to take in starting a business.  You will learn the proper sequence to follow in planning your business and forming your company.  See Center website for time and location.\n\n May 25th ? Guerrilla Marketing Class IV\n Fifth in series of 6 workshops.  Learn 5 more tools.  Learn details of the market ladder\, book\, and calendar.  Learn effective use of viral marketing.  Deadline for payment is 5/19.  See Center website for time and location.\n\n May 26th ? Understanding Financial Statements\n Covers the meaning and interpretation of the four main financial statements of accounting.  Attendees should have a basic understanding and familiarity with the financial statements.  See Center website for time and location.\n\n May 28th ? Steps to Starting a Small Business\nAn overview of the necessary steps to take in starting a business.  You will learn the proper sequence to follow in planning your business and forming your company.  See Center website for time and location.
X-ALT-DESC;FMTTYPE=text/html:</font></div><div> </div><div><font size="2"><strong>May 11th ? Information Session for CRS Taxpayers</strong></font></div><div><font size="2"><strong><br /></strong>Covers the basic taxes\, proper record keeping and how to file reports properly to avoid penalties.  See Center website for times and location.\n<br></font></div><div> </div><div><font size="2"><strong>May 12th ? Steps to Starting a Small Business</strong></font></div><div><font size="2"><strong><br /></strong> An overview of the necessary steps to take in starting a business.  You will learn the proper sequence to follow in planning your business and forming your company.  See Center website for time and location.\n<br></font></div><div> </div><div><font size="2"><strong>May 25th ? Guerrilla Marketing Class IV</strong></font></div><div><font size="2"><strong><br /></strong> Fifth in series of 6 workshops.  Learn 5 more tools.  Learn details of the market ladder\, book\, and calendar.  Learn effective use of viral marketing.  Deadline for payment is 5/19.  See Center website for time and location.\n<br></font></div><div> </div><div><font size="2"><strong>May 26th ? Understanding Financial Statements</strong></font></div><div><font size="2"><strong><br /></strong> Covers the meaning and interpretation of the four main financial statements of accounting.  Attendees should have a basic understanding and familiarity with the financial statements.  See Center website for time and location.\n<br></font></div><div> </div><div><font size="2"><strong>May 28th ? Steps to Starting a Small Business</strong></font></div><div><font size="2"><strong><br /></strong>An overview of the necessary steps to take in starting a business.  You will learn the proper sequence to follow in planning your business and forming your company.  See Center website for time and location.\n<br>
LOCATION:
UID:e.379.94
SEQUENCE:3
DTSTAMP:20260422T085517Z
URL:http://santafehispanicchamber.sampleorg.com/events/details/santa-fe-small-business-development-center-workshops-05-01-2010-94
END:VEVENT

END:VCALENDAR
