BEGIN:VCALENDAR
VERSION:2.0
PRODID:-//ChamberMaster//Event Calendar 2.0//EN
METHOD:PUBLISH
X-PUBLISHED-TTL:P3D
REFRESH-INTERVAL:P3D
CALSCALE:GREGORIAN
BEGIN:VEVENT
DTSTART;VALUE=DATE:20090701
DTEND;VALUE=DATE:20090801
TRANSP:TRANSPARENT
X-MICROSOFT-CDO-ALLDAYEVENT:TRUE
SUMMARY:Santa Fe Small Business Development Center Workshops
DESCRIPTION:July 9th - Customer Service\nAs a Small business owner\, you recognize that the ability to deal with difficult customers\, employees\, vendors and situations is essential to your success!  In this hands-on workshop\, you will learn how to deal with the impossible scenarios and learn to successfully communicate on the telephone and in person to effectively prevent future conflicts.  This seminar will help you increase customer satisfaction to ensure a boost in sales.   July 14th - Information Session for CRS Taxpayers\nCovers the basic taxes\, proper record keeping and how to file reports properly to avoid penalties.  See Center website for times and location.    July 16th - Bookkeeping Basics for Artists\nIn this workshop you will learn the key bookkeeping concepts and terminology\, the 2 principal financial statements and how they are related\, a simple single entry bookkeeping method and basic bookkeeping rules and processes.  This workshop addresses specific issues important to artists.  Instructor is Ida Carrillo.   July 31st - Steps to Starting a Small Business\nAn overview of the necessary steps to take in starting a business.  You will learn the proper sequence to follow in planning your business\, from naming to marketing to choosing a legal entity.  See Center website for time and location.
X-ALT-DESC;FMTTYPE=text/html:<div>&nbsp\;</div><div><font size="2"><strong>July 9th - Customer Service</strong></font></div><div><font size="2"><strong><br /></strong>As a Small business owner\, you recognize that the ability to deal with difficult customers\, employees\, vendors and situations is essential to your success!  In this hands-on workshop\, you will learn how to deal with the impossible scenarios and learn to successfully communicate on the telephone and in person to effectively prevent future conflicts.  This seminar will help you increase customer satisfaction to ensure a boost in sales.</font></div><div>&nbsp\;</div><div>&nbsp\;</div><div>&nbsp\;</div><div><font size="2"><strong>July 14th - Information Session for CRS Taxpayers</strong></font></div><div><font size="2"><strong><br /></strong>Covers the basic taxes\, proper record keeping and how to file reports properly to avoid penalties.  See Center website for times and location. </font></div><div>&nbsp\;</div><div>&nbsp\;</div><div>&nbsp\;</div><div><font size="2"><strong>July 16th - Bookkeeping Basics for Artists</strong></font></div><div><font size="2"><strong><br /></strong>In this workshop you will learn the key bookkeeping concepts and terminology\, the 2 principal financial statements and how they are related\, a simple single entry bookkeeping method and basic bookkeeping rules and processes.  This workshop addresses specific issues important to artists.  Instructor is Ida Carrillo.</font></div><div>&nbsp\;</div><div>&nbsp\;</div><div>&nbsp\;</div><div><font size="2"><strong>July 31st - Steps to Starting a Small Business</strong></font></div><div><font size="2"><strong><br /></strong>An overview of the necessary steps to take in starting a business.  You will learn the proper sequence to follow in planning your business\, from naming to marketing to choosing a legal entity.  See Center website for time and location.  			</font></div>
LOCATION:6401 S. Richards Ave.
UID:e.379.70
SEQUENCE:3
DTSTAMP:20260423T010920Z
URL:http://santafehispanicchamber.sampleorg.com/events/details/santa-fe-small-business-development-center-workshops-07-01-2009-70
END:VEVENT

END:VCALENDAR
