BEGIN:VCALENDAR
VERSION:2.0
PRODID:-//ChamberMaster//Event Calendar 2.0//EN
METHOD:PUBLISH
X-PUBLISHED-TTL:P3D
REFRESH-INTERVAL:P3D
CALSCALE:GREGORIAN
BEGIN:VEVENT
DTSTART;VALUE=DATE:20100701
DTEND;VALUE=DATE:20100801
TRANSP:TRANSPARENT
X-MICROSOFT-CDO-ALLDAYEVENT:TRUE
SUMMARY:Santa Fe Small Business Development Center Workshops
DESCRIPTION:July 13th - Information Session for CRS Taxpayers\nCovers the basic taxes\, proper record keeping and how to file reports properly to avoid penalties.  See Center website for times and location.\n\n July 14th - Steps to Starting a Small Business\n An overview of the necessary steps to take in starting a business.  You will learn the proper sequence to follow in planning your business and forming your company.  See Center website for time and location.\n\n July 30th  - Steps to Starting a Small Business\nAn overview of the necessary steps to take in starting a business.  You will learn the proper sequence to follow in planning your business and forming your company.  See Center website for time and location.
X-ALT-DESC;FMTTYPE=text/html:</font></div><div> </div><div><font size="2"><strong>July 13th - Information Session for CRS Taxpayers</strong></font></div><div><font size="2"><strong><br /></strong>Covers the basic taxes\, proper record keeping and how to file reports properly to avoid penalties.  See Center website for times and location.\n<br></font></div><div> </div><div><font size="2"><strong>July 14th - Steps to Starting a Small Business</strong></font></div><div><font size="2"><strong><br /></strong> An overview of the necessary steps to take in starting a business.  You will learn the proper sequence to follow in planning your business and forming your company.  See Center website for time and location.\n<br></font></div><div> </div><div><font size="2"><strong>July 30th  - Steps to Starting a Small Business</strong></font></div><div><font size="2"><strong><br /></strong>An overview of the necessary steps to take in starting a business.  You will learn the proper sequence to follow in planning your business and forming your company.  See Center website for time and location.\n<br>
LOCATION:
UID:e.379.105
SEQUENCE:3
DTSTAMP:20260422T054643Z
URL:http://santafehispanicchamber.sampleorg.com/events/details/santa-fe-small-business-development-center-workshops-07-01-2010-105
END:VEVENT

END:VCALENDAR
