BEGIN:VCALENDAR
VERSION:2.0
PRODID:-//ChamberMaster//Event Calendar 2.0//EN
METHOD:PUBLISH
X-PUBLISHED-TTL:P3D
REFRESH-INTERVAL:P3D
CALSCALE:GREGORIAN
BEGIN:VEVENT
DTSTART;VALUE=DATE:20110719
DTEND;VALUE=DATE:20110731
TRANSP:TRANSPARENT
X-MICROSOFT-CDO-ALLDAYEVENT:TRUE
SUMMARY:Santa Fe Small Business Development Center Workshops
DESCRIPTION:July 19th   Government Contracting 101\n\nIn this fast-paced\, informative and enjoyable workshop\, business owners are introduced to government contracting. Topics include: Does the government purchase my particular product or service? What do I need to do to get started in government marketing? What are the federal certifications? How will being certified help my business? Am I "contract ready?" What resources are available to help me? How do I market my product/service to the government? During the roundtable discussion\, an informal question and answer session will be facilitated by Elaine Palin\, Santa Fe PTAP Advisor. Continental breakfast will be provided\, advanced payment is requested. See Center website for time and location.\n\n\n\nJuly 22nd   Steps to Starting a Small Business\n\nAn overview of the necessary steps to take in starting a business. You will learn the proper sequence to follow in planning your business and forming your company. See Center website for time and location.\n\n\n\nJuly 26th   Steps to Starting a Small Business\n\nAn overview of the necessary steps to take in starting a business. You will learn the proper sequence to follow in planning your business and forming your company. See Center website for time and location.
X-ALT-DESC;FMTTYPE=text/html:<span style="font-size: 12px"><strong>July 19th &ndash\; Government Contracting 101</strong></span><br />\nIn this fast-paced\, informative and enjoyable workshop\, business owners are introduced to government contracting. Topics include: Does the government purchase my particular product or service? What do I need to do to get started in government marketing? What are the federal certifications? How will being certified help my business? Am I &ldquo\;contract ready?&rdquo\; What resources are available to help me? How do I market my product/service to the government? During the roundtable discussion\, an informal question and answer session will be facilitated by Elaine Palin\, Santa Fe PTAP Advisor. Continental breakfast will be provided\, advanced payment is requested. See Center website for time and location.<br />\n<br />\n<span style="font-size: 12px"><strong>July 22nd &ndash\; Steps to Starting a Small Business</strong></span><br />\nAn overview of the necessary steps to take in starting a business. You will learn the proper sequence to follow in planning your business and forming your company. See Center website for time and location.<br />\n<br />\n<span style="font-size: 12px"><strong>July 26th &ndash\; Steps to Starting a Small Business</strong></span><br />\nAn overview of the necessary steps to take in starting a business. You will learn the proper sequence to follow in planning your business and forming your company. See Center website for time and location.<br />\n
LOCATION:div strong img class="" height="79" width="180" alt="" src="https://secure.chambermaster.com/FCKeditor/UserFiles/chambers/379/Image/sfcc_imagelogo.jpg" / /strong /div
UID:e.379.128
SEQUENCE:3
DTSTAMP:20260421T084816Z
URL:http://santafehispanicchamber.sampleorg.com/events/details/santa-fe-small-business-development-center-workshops-07-19-2011-128
END:VEVENT

END:VCALENDAR
