BEGIN:VCALENDAR
VERSION:2.0
PRODID:-//ChamberMaster//Event Calendar 2.0//EN
METHOD:PUBLISH
X-PUBLISHED-TTL:P3D
REFRESH-INTERVAL:P3D
CALSCALE:GREGORIAN
BEGIN:VEVENT
DTSTART;VALUE=DATE:20100801
DTEND;VALUE=DATE:20100901
TRANSP:TRANSPARENT
X-MICROSOFT-CDO-ALLDAYEVENT:TRUE
SUMMARY:Santa Fe Small Business Development Center Workshops
DESCRIPTION:August 10th  Information Session for CRS Taxpayers\nCovers the basic taxes\, proper record keeping and how to file reports properly to avoid penalties.  See Center website for times and location. \n August 11th  Steps to Starting a Small Business\n An overview of the necessary steps to take in starting a business.  You will learn the proper sequence to follow in planning your business and forming your company.  See Center website for time and location. \n August 26th  Basic Bookkeeping\nIf you have no\, or very limited\, understanding of bookkeeping this is an excellent introduction. In this workshop you will learn the key bookkeeping concepts and terminology\, the 2 principal financial statements and how they are related\, a simple single entry bookkeeping method and basic bookkeeping rules and processes. Instructor is Ida Carrillo See Center website for time and location. \n August 27th  Steps to Starting a Small Business\nAn overview of the necessary steps to take in starting a business.  You will learn the proper sequence to follow in planning your business and forming your company.  See Center website for time and location. \n August 31st  Texas and New Mexico Regional IRS Practitioners Meeting \n The Santa Fe SBDC is partnering with the IRS to bring CPE hours to tax professionals for a day of informative sessions. You will get the opportunity to hear directly from IRS officials. Get your questions ready. Seating is limited so be sure to register early. Registration and prepayment deadline is August 25\, 2010. Enrolled Agents will be entitled to 8 CPE hours\; other tax professionals may qualify depending on the requirements of their organizations. Register online or contact Julianne at 505-428-1343. Please check in no later than 7:30 a.m.  See Center website for time and location.
X-ALT-DESC;FMTTYPE=text/html:<div><font size="2"><strong>August 10th&nbsp\; Information Session for CRS Taxpayers</strong></font></div><div><font size="2"><strong><br /></strong>Covers the basic taxes\, proper record keeping and how to file reports properly to avoid penalties.  See Center website for times and location. <br /></font></div><div>&nbsp\;</div><div><font size="2"><strong>August 11th&nbsp\; Steps to Starting a Small Business</strong></font></div><div><font size="2"><strong><br /></strong> An overview of the necessary steps to take in starting a business.  You will learn the proper sequence to follow in planning your business and forming your company.  See Center website for time and location. <br /></font></div><div>&nbsp\;</div><div><font size="2"><strong>August 26th&nbsp\; Basic Bookkeeping</strong></font></div><div><font size="2"><strong><br /></strong>If you have no\, or very limited\, understanding of bookkeeping this is an excellent introduction. In this workshop you will learn the key bookkeeping concepts and terminology\, the 2 principal financial statements and how they are related\, a simple single entry bookkeeping method and basic bookkeeping rules and processes. Instructor is Ida Carrillo See Center website for time and location. <br /></font></div><div>&nbsp\;</div><div><font size="2"><strong>August 27th&nbsp\; Steps to Starting a Small Business</strong></font></div><div><font size="2"><strong><br /></strong>An overview of the necessary steps to take in starting a business.  You will learn the proper sequence to follow in planning your business and forming your company.  See Center website for time and location. <br /></font></div><div>&nbsp\;</div><div><font size="2"><strong>August 31st&nbsp\; Texas and New Mexico Regional IRS Practitioners Meeting </strong></font></div><div><font size="2"><strong><br /></strong> The Santa Fe SBDC is partnering with the IRS to bring CPE hours to tax professionals for a day of informative sessions. You will get the opportunity to hear directly from IRS officials. Get your questions ready. Seating is limited so be sure to register early. Registration and prepayment deadline is August 25\, 2010. Enrolled Agents will be entitled to 8 CPE hours\; other tax professionals may qualify depending on the requirements of their organizations. Register online or contact Julianne at 505-428-1343. Please check in no later than 7:30 a.m.  See Center website for time and location. <br /> 			</font></div>
LOCATION:
UID:e.379.108
SEQUENCE:3
DTSTAMP:20260422T041643Z
URL:http://santafehispanicchamber.sampleorg.com/events/details/santa-fe-small-business-development-center-workshops-08-01-2010-108
END:VEVENT

END:VCALENDAR
