BEGIN:VCALENDAR
VERSION:2.0
PRODID:-//ChamberMaster//Event Calendar 2.0//EN
METHOD:PUBLISH
X-PUBLISHED-TTL:P3D
REFRESH-INTERVAL:P3D
CALSCALE:GREGORIAN
BEGIN:VEVENT
DTSTART;VALUE=DATE:20110801
DTEND;VALUE=DATE:20110901
TRANSP:TRANSPARENT
X-MICROSOFT-CDO-ALLDAYEVENT:TRUE
SUMMARY:Santa Fe Small Business Development Center Workshops
DESCRIPTION:August 9th   Information Session for CRS Taxpayers\n\nCovers the basic taxes\, proper record keeping and how to file reports properly to avoid penalties. See Center website for times and location.\n\n\n\nAugust 10th   Hiring\, Training\, and Managing Employees\n\nEverything you need to know about having employees or sub-contractors. Learn how to recruit\, hire\, train\, and manage your workers. You'll be given helpful forms and websites\, learn the importance of employee manuals\, and communicating policies\, procedures\, and expectations. Learn what FMLA\, EEOC\, DOL\, HIPPA\, OSHA and other acronyms really mean for you. Instructor: Polly White\, Santa Fe Business Resources.\n\n\n\nAugust 10th   Steps to Starting a Small Business\n\nAn overview of the necessary steps to take in starting a business. You will learn the proper sequence to follow in planning your business and forming your company. See Center website for time and location.\n\n\n\nAugust 23rd   Legal Structures\n\nThe Business Legal Structure Workshop is designed to assist entrepreneurs to choose the specific type of business organization that fits their needs. The following is the list of the topics we will cover: Guidelines on how to develop a business plan. Types of business organizations: Sole Proprietorship\, General Partnership\, Limited Partnership\, Corporation General (c)\, S Corporation\, Foreign Corporation\, Professional Corporation\, Not For Profit Corporation\, Cooperative Associations\, Limited Liability Companies (LLC)\, Limited Liability Partnership (LLP)\, Corporate Formalities\, Checklist of forms to file. Instructor is Aaron Lundquist\, SBDC UNM LA-Sandoval County Business Advisor. See Center website for time and location.\n\n\n\nAugust 24th   How You and Your Staff Make all the Difference\n\nLearn the steps to create your organization's strategic plan for growth. Use org charts\, job descriptions\, interviews\, reviews and surveys. You will learn to implement succession planning\, respect diversity in the workplace\, find new talent\; all with an eye on the future. Instructor: Polly White\, Santa Fe Business Resources. See Center website for time and location.\n\n\n\nAugust 26th   Steps to Starting a Small Business\n\nAn overview of the necessary steps to take in starting a business. You will learn the proper sequence to follow in planning your business and forming your company. See Center website for time and location.
X-ALT-DESC;FMTTYPE=text/html:<strong><span style="font-size: 12px">August 9th &ndash\; Information Session for CRS Taxpayers</span></strong><br />\nCovers the basic taxes\, proper record keeping and how to file reports properly to avoid penalties. See Center website for times and location.<br />\n<br />\n<span style="font-size: 12px"><strong>August 10th &ndash\; Hiring\, Training\, and Managing Employees</strong></span><br />\nEverything you need to know about having employees or sub-contractors. Learn how to recruit\, hire\, train\, and manage your workers. You&#39\;ll be given helpful forms and websites\, learn the importance of employee manuals\, and communicating policies\, procedures\, and expectations. Learn what FMLA\, EEOC\, DOL\, HIPPA\, OSHA and other acronyms really mean for you. Instructor: Polly White\, Santa Fe Business Resources.<br />\n<br />\n<span style="font-size: 12px"><strong>August 10th &ndash\; Steps to Starting a Small Business</strong></span><br />\nAn overview of the necessary steps to take in starting a business. You will learn the proper sequence to follow in planning your business and forming your company. See Center website for time and location.<br />\n<br />\n<span style="font-size: 12px"><strong>August 23rd &ndash\; Legal Structures</strong></span><br />\nThe Business Legal Structure Workshop is designed to assist entrepreneurs to choose the specific type of business organization that fits their needs. The following is the list of the topics we will cover: Guidelines on how to develop a business plan. Types of business organizations: Sole Proprietorship\, General Partnership\, Limited Partnership\, Corporation General (c)\, S Corporation\, Foreign Corporation\, Professional Corporation\, Not For Profit Corporation\, Cooperative Associations\, Limited Liability Companies (LLC)\, Limited Liability Partnership (LLP)\, Corporate Formalities\, Checklist of forms to file. Instructor is Aaron Lundquist\, SBDC UNM LA-Sandoval County Business Advisor. See Center website for time and location.<br />\n<br />\n<span style="font-size: 12px"><strong>August 24th &ndash\; How You and Your Staff Make all the Difference</strong></span><br />\nLearn the steps to create your organization&#39\;s strategic plan for growth. Use org charts\, job descriptions\, interviews\, reviews and surveys. You will learn to implement succession planning\, respect diversity in the workplace\, find new talent\; all with an eye on the future. Instructor: Polly White\, Santa Fe Business Resources. See Center website for time and location.<br />\n<br />\n<span style="font-size: 12px"><strong>August 26th &ndash\; Steps to Starting a Small Business</strong></span><br />\nAn overview of the necessary steps to take in starting a business. You will learn the proper sequence to follow in planning your business and forming your company. See Center website for time and location.<br />\n
LOCATION:div strong img class="" height="79" width="180" alt="" src="https://secure.chambermaster.com/FCKeditor/UserFiles/chambers/379/Image/sfcc_imagelogo.jpg" / /strong /div
UID:e.379.129
SEQUENCE:3
DTSTAMP:20260421T071105Z
URL:http://santafehispanicchamber.sampleorg.com/events/details/santa-fe-small-business-development-center-workshops-08-01-2011-129
END:VEVENT

END:VCALENDAR
