BEGIN:VCALENDAR
VERSION:2.0
PRODID:-//ChamberMaster//Event Calendar 2.0//EN
METHOD:PUBLISH
X-PUBLISHED-TTL:P3D
REFRESH-INTERVAL:P3D
CALSCALE:GREGORIAN
BEGIN:VEVENT
DTSTART;VALUE=DATE:20091001
DTEND;VALUE=DATE:20091101
TRANSP:TRANSPARENT
X-MICROSOFT-CDO-ALLDAYEVENT:TRUE
SUMMARY:Santa Fe Small Business Development Center Workshops
DESCRIPTION:October 1st\, 8th\,   (2) income statement\; (3) cash flow  statement\; (4) statement of shareholders equity.  Attendees should have a basic understanding and familiarity with the financial statements.  See center website for time and location.\n\nOctober 30th ? Steps to Starting a Small Business\n This is an overview of the necessary steps to take in starting a business.  You will learn the proper sequence to follow in planning your business\, from naming to marketing to legal entity.  See center website for time and location.
X-ALT-DESC;FMTTYPE=text/html:</div><div><font size="2"><strong>October 1st\, 8th\, & 15th ? Peachtree Accounting</strong></font></div><div><font size="2"><strong><br /></strong> Three session workshop working with Peachtree accounting software.  Topics include: company setup\, accounts receivable\, accounts payable\, payroll\,   financial statements\, requires working knowledge of accounting.  Fee includes cost of workbook. Dates are 10/1\, 10/8\, & 10/15  See center website for time and location.<br /></font></div>\n</div><div><font size="2"><strong>October 8th ? Simplifying Market Research</strong></font></div><div><font size="2"><strong><br /></strong> Covers in dept processes using the web & other resources that result in data that will be used for analysis\, business development\, prioritization of potential customer sectors.  See center website for time and location.<br /></font></div>\n</div><div><font size="2"><strong>October 13th ? Information Session for CRS Taxpayers</strong></font></div><div><font size="2"><strong><br /></strong> Covers the basic taxes and how to file reports properly to avoid penalties. Topics include explanations of Gross Receipts Tax (GRT)\, compensating tax\, withholding tax\, the CRS Filer?s Kit and proper use of Nontaxable Transaction Certificates (NTTC).  See center website for time and location.<br /></font></div>\n</div><div><font size="2"><strong>October 15th  ? Bookkeeping Basics for Artists</strong></font></div><div><font size="2"><strong><br /></strong> In this workshop you will learn the key bookkeeping concepts and terminology\, the 2 principal financial statements and how they are related\, a simple single entry bookkeeping method and basic bookkeeping rules and processes.  This workshop addresses specific issues important to artists.  See center website for time and location.<br /></font></div>\n</div><div><font size="2"><strong>October 20th  ? Bookkeeping: Benefits from the numbers and how to get them</strong></font></div><div><font size="2"><strong><br /></strong>If you have a basic working knowledge of bookkeeping this workshop will help you improve your level of understanding\, why it needs to be done proficiently and the operational benefits. It?s not that tough when you have the right information.  See center website for time and location.<br /></font></div>\n</div><div><font size="2"><strong>October 21st  ? Understanding Financial Statements></font></div><div><font size="2"><strong><br /></strong> Covers the meaning and interpretation of the four main    financial statements:  (1) balance sheet\; (2) income statement\; (3) cash flow  statement\; (4) statement of shareholders equity.  Attendees should have a basic understanding and familiarity with the financial statements.  See center website for time and location.<br /></font></div>\n</div><div><font size="2"><strong>October 30th ? Steps to Starting a Small Business</strong></font></div><div><font size="2"><strong><br /></strong> This is an overview of the necessary steps to take in starting a business.  You will learn the proper sequence to follow in planning your business\, from naming to marketing to legal entity.  See center website for time and location.<br /></font></div>\n
LOCATION:6401 S. Richards Ave.
UID:e.379.81
SEQUENCE:3
DTSTAMP:20260422T203103Z
URL:http://santafehispanicchamber.sampleorg.com/events/details/santa-fe-small-business-development-center-workshops-10-01-2009-81
END:VEVENT

END:VCALENDAR
