BEGIN:VCALENDAR
VERSION:2.0
PRODID:-//ChamberMaster//Event Calendar 2.0//EN
METHOD:PUBLISH
X-PUBLISHED-TTL:P3D
REFRESH-INTERVAL:P3D
CALSCALE:GREGORIAN
BEGIN:VEVENT
DTSTART;VALUE=DATE:20111012
DTEND;VALUE=DATE:20111101
TRANSP:TRANSPARENT
X-MICROSOFT-CDO-ALLDAYEVENT:TRUE
SUMMARY:Santa Fe Small Business Development Center Workshops
DESCRIPTION:October 12 - Steps to Starting a Small Business\n\nThis is an overview of the necessary steps to take in starting a business. You will learn the proper sequence to follow in planning your business\, from naming to marketing to legal entity. See Center Website for times and location.\n\n\n\nOctober 27   Government Certifications\n\nThis informative workshop provides an overview to government certification programs for small businesses including the 8(a) program\, HUBZone\, Woman-owned Small Business\, and Veteran-owned small business certifications. Susan Chavez\, SBA Deputy Director and Irene Farmer\, SBA Business Development Specialist will speak along with a representative from GSA who will present on the processes for obtaining a GSA schedule. See Center Website for times and location.\n\n\n\nOctober 27   SBA Lending Programs\n\nThis informative workshop includes SBA Deputy Director Susan Chavez discussing current SBA lending programs followed by a panel discussion and Q&A with local lenders. See Center Website for times and location.\n\n\n\nOctober 27   Women Owned Certification Programs\n\nIn this seminar\, business owners will be given an overview of the Women-Owned Small Business (WOSB) Federal Contract Program. Topics include:   Eligibility requirements   Certification and the WOSB repository   Steps to participate in the program   Steps to compete for WOSB federal contracts. See Center Website for times and location.
X-ALT-DESC;FMTTYPE=text/html:<strong>October 12 - Steps to Starting a Small Business</strong><br />\nThis is an overview of the necessary steps to take in starting a business. You will learn the proper sequence to follow in planning your business\, from naming to marketing to legal entity. See Center Website for times and location.<br />\n<br />\n<strong>October 27 &ndash\; Government Certifications</strong><br />\nThis informative workshop provides an overview to government certification programs for small businesses including the 8(a) program\, HUBZone\, Woman-owned Small Business\, and Veteran-owned small business certifications. Susan Chavez\, SBA Deputy Director and Irene Farmer\, SBA Business Development Specialist will speak along with a representative from GSA who will present on the processes for obtaining a GSA schedule. See Center Website for times and location.<br />\n<br />\n<strong>October 27 &ndash\; SBA Lending Programs</strong><br />\nThis informative workshop includes SBA Deputy Director Susan Chavez discussing current SBA lending programs followed by a panel discussion and Q&amp\;A with local lenders. See Center Website for times and location.<br />\n<br />\n<strong>October 27 &ndash\; Women Owned Certification Programs</strong><br />\nIn this seminar\, business owners will be given an overview of the Women-Owned Small Business (WOSB) Federal Contract Program. Topics include: &bull\; Eligibility requirements &bull\; Certification and the WOSB repository &bull\; Steps to participate in the program &bull\; Steps to compete for WOSB federal contracts. See Center Website for times and location.<br />\n
LOCATION:div strong img class="" height="79" width="180" alt="" src="https://secure.chambermaster.com/FCKeditor/UserFiles/chambers/379/Image/sfcc_imagelogo.jpg" / /strong /div
UID:e.379.137
SEQUENCE:3
DTSTAMP:20260421T041549Z
URL:http://santafehispanicchamber.sampleorg.com/events/details/santa-fe-small-business-development-center-workshops-10-12-2011-137
END:VEVENT

END:VCALENDAR
