BEGIN:VCALENDAR
VERSION:2.0
PRODID:-//ChamberMaster//Event Calendar 2.0//EN
METHOD:PUBLISH
X-PUBLISHED-TTL:P3D
REFRESH-INTERVAL:P3D
CALSCALE:GREGORIAN
BEGIN:VEVENT
DTSTART;VALUE=DATE:20091101
DTEND;VALUE=DATE:20091201
TRANSP:TRANSPARENT
X-MICROSOFT-CDO-ALLDAYEVENT:TRUE
SUMMARY:Santa Fe Small Business Development Center Workshops
DESCRIPTION:November 10th ? Information Session for CRS Taxpayers\n Covers the basic taxes and how to file reports properly to avoid penalties. Topics include explanations of Gross Receipts Tax (GRT)\, compensating tax\, withholding tax\, the CRS Filer?s Kit and proper use of Nontaxable Transaction Certificates (NTTC).  See center website for time and location.\n\nNovember 11th ? Bookkeeping Basics\nIn this workshop you will learn the key bookkeeping concepts and terminology\, the 2 principal financial statements and how they are related\, a simple single entry bookkeeping method and basic bookkeeping rules and processes.  See center website for time and location.\n\nNovember 11th ? Marketing Art\n The U.S. government is the world?s largest buyer of products and services and is a strong viable market for small businesses to consider\, including artists. PTAP is here to help you! This seminar addresses copyright\, trademark and other federal and state laws applicable to art\, including Native American art issues.  See center website for time and location.\n\nNovember 12th ? Time Management for the Entrepreneur\nThis hands-on workshop will assist the small business owner to recognize the effect that disorganization and poor time management skills that cause needless stress\, loss of sales and added expense. The tools necessary to prevent this will be presented and the methods for proper utilization will be given. See center website for time and location.\n\nNovember 24th  ? Bookkeeping: Benefits from the numbers and how to get them\nIf you have a basic working knowledge of bookkeeping this workshop will help you improve your level of understanding\, why it needs to be done proficiently and the operational benefits. It?s not that tough when you have the right information.  See center website for time and location.
X-ALT-DESC;FMTTYPE=text/html:</div><div><font size="2"><strong>November 10th ? Information Session for CRS Taxpayers</strong></font></div><div><font size="2"><strong><br /></strong> Covers the basic taxes and how to file reports properly to avoid penalties. Topics include explanations of Gross Receipts Tax (GRT)\, compensating tax\, withholding tax\, the CRS Filer?s Kit and proper use of Nontaxable Transaction Certificates (NTTC).  See center website for time and location.<br /></font></div>\n</div><div><font size="2"><strong>November 11th ? Bookkeeping Basics</strong></font></div><div><font size="2"><strong><br /></strong>In this workshop you will learn the key bookkeeping concepts and terminology\, the 2 principal financial statements and how they are related\, a simple single entry bookkeeping method and basic bookkeeping rules and processes.  See center website for time and location.<br /></font></div>\n</div><div><font size="2"><strong>November 11th ? Marketing Art</strong></font></div><div><font size="2"><strong><br /></strong> The U.S. government is the world?s largest buyer of products and services and is a strong viable market for small businesses to consider\, including artists. PTAP is here to help you! This seminar addresses copyright\, trademark and other federal and state laws applicable to art\, including Native American art issues.  See center website for time and location.<br /></font></div>\n</div><div><font size="2"><strong>November 12th ? Time Management for the Entrepreneur</strong></font></div><div><font size="2"><strong><br /></strong>This hands-on workshop will assist the small business owner to recognize the effect that disorganization and poor time management skills that cause needless stress\, loss of sales and added expense. The tools necessary to prevent this will be presented and the methods for proper utilization will be given. See center website for time and location.<br /></font></div>\n</div><div><font size="2"><strong>November 24th  ? Bookkeeping: Benefits from the numbers and how to get them</strong></font></div><div><font size="2"><strong><br /></strong>If you have a basic working knowledge of bookkeeping this workshop will help you improve your level of understanding\, why it needs to be done proficiently and the operational benefits. It?s not that tough when you have the right information.  See center website for time and location.<br /></font></div>\n
LOCATION:6401 S. Richards Ave.
UID:e.379.84
SEQUENCE:3
DTSTAMP:20260422T184540Z
URL:http://santafehispanicchamber.sampleorg.com/events/details/santa-fe-small-business-development-center-workshops-11-01-2009-84
END:VEVENT

END:VCALENDAR
