BEGIN:VCALENDAR
VERSION:2.0
PRODID:-//ChamberMaster//Event Calendar 2.0//EN
METHOD:PUBLISH
X-PUBLISHED-TTL:P3D
REFRESH-INTERVAL:P3D
CALSCALE:GREGORIAN
BEGIN:VEVENT
DTSTART;VALUE=DATE:20091201
DTEND;VALUE=DATE:20100101
TRANSP:TRANSPARENT
X-MICROSOFT-CDO-ALLDAYEVENT:TRUE
SUMMARY:Santa Fe Small Business Development Center Workshops
DESCRIPTION:December 4th ? Steps to Starting a Small Business\n This is an overview of the necessary steps to take in starting a business. You will learn the proper sequence to follow in planning your business\, from naming to marketing to legal entity.  See center website for time and location.
X-ALT-DESC;FMTTYPE=text/html:</div><div><font size="2"><strong>December 4th ? Steps to Starting a Small Business</strong></font></div><div><font size="2"><strong><br /></strong> This is an overview of the necessary steps to take in starting a business. You will learn the proper sequence to follow in planning your business\, from naming to marketing to legal entity.  See center website for time and location.<br /></font></div>
LOCATION:6401 S. Richards Ave.
UID:e.379.85
SEQUENCE:3
DTSTAMP:20260422T170336Z
URL:http://santafehispanicchamber.sampleorg.com/events/details/santa-fe-small-business-development-center-workshops-12-01-2009-85
END:VEVENT

END:VCALENDAR
