BEGIN:VCALENDAR
VERSION:2.0
PRODID:-//ChamberMaster//Event Calendar 2.0//EN
METHOD:PUBLISH
X-PUBLISHED-TTL:P3D
REFRESH-INTERVAL:P3D
CALSCALE:GREGORIAN
BEGIN:VEVENT
DTSTART:20090722T233000Z
DTEND:20090723T023000Z
X-MICROSOFT-CDO-ALLDAYEVENT:FALSE
SUMMARY:Santa Fe Spanish Market 2009 Reception
DESCRIPTION:The Santa Fe Hispanic Chamber of Commerce is proud to honor the artists of the Santa Fe Spanish Market 2009 at the Second Annual Spanish Market Reception. Please join us at the Spanish Colonial Museum on 750 Camino Lejo\, Santa Fe.  The reception is from 5:30-7:30 pm.  Join us for some food and drinks.  A donation of $25.00/ticket is requested. Please call the SFHCC office at 505-473-3080 for ticket information or you may purchase tickets at the First National Bank of Santa Fe main office on the plaza and at all the Branch locations in Santa Fe or from members of the Santa Fe Hispanic Chamber of Commerce.
X-ALT-DESC;FMTTYPE=text/html:<div>The Santa Fe Hispanic Chamber of Commerce is proud to honor the artists of the Santa Fe Spanish Market 2009 at the Second&nbsp\;Annual Spanish Market Reception. Please join us at the Spanish Colonial Museum on 750 Camino Lejo\, Santa Fe.&nbsp\; The reception is from 5:30-7:30 pm.&nbsp\; Join us for some food and drinks.&nbsp\; A donation of $25.00/ticket is requested.</div><div>&nbsp\;</div><div>Please call the SFHCC office at 505-473-3080 for ticket information or you may purchase tickets at the First National Bank of Santa Fe main office on the plaza and at all the Branch locations in Santa Fe or from members of the Santa Fe Hispanic Chamber of Commerce.</div>
LOCATION:Museum of Spanish Colonial Art\, 750 Camino Lejo\, Santa Fe\, NM
UID:e.379.72
SEQUENCE:3
DTSTAMP:20260423T011025Z
URL:http://santafehispanicchamber.sampleorg.com/events/details/santa-fe-spanish-market-2009-reception-07-22-2009-72
END:VEVENT

END:VCALENDAR
