BEGIN:VCALENDAR
VERSION:2.0
PRODID:-//ChamberMaster//Event Calendar 2.0//EN
METHOD:PUBLISH
X-PUBLISHED-TTL:P3D
REFRESH-INTERVAL:P3D
CALSCALE:GREGORIAN
BEGIN:VEVENT
DTSTART:20120725T233000Z
DTEND:20120726T023000Z
X-MICROSOFT-CDO-ALLDAYEVENT:FALSE
SUMMARY:Santa Fe Spanish Market 2012 Reception
DESCRIPTION:The Santa Fe Hispanic Chamber of Commerce is proud to honor the artists of the Santa Fe Spanish Market 2012 at the Fifth Annual Spanish Market Reception. Please join us at the New Mexico State Governor's Mansion at 1 Mansion Drive\, Santa Fe.  The reception is from 5:30-8:30 pm.  Join us for some food and drinks.  A donation of $25.00/ticket is requested.\n\n	 \n\n	Please call the James Borrego at 505-473-0348 ex. 1 for ticket information or you may purchase tickets at Alpheagraphics\, 2002-C Cerrillos Road or from members of the Santa Fe Hispanic Chamber of Commerce.  If you do not purchase your ticket in advance\, tickets may be available at the event on a first-come first-served basis..
X-ALT-DESC;FMTTYPE=text/html:<div>\n	<strong><span style="font-size: 14pt"><span style="color: navy"><span style="font-family: script mt bold">The Santa Fe Hispanic Chamber of Commerce is proud to honor the artists of the Santa Fe Spanish Market 2012 at the Fifth Annual Spanish Market Reception. Please join us at the New Mexico State Governor&#39\;s Mansion at 1 Mansion Drive\, Santa Fe.&nbsp\; The reception is from 5:30-8:30 pm.&nbsp\; Join us for some food and drinks.&nbsp\; A donation of $25.00/ticket is requested.</span></span></span></strong><br />\n	&nbsp\;<br />\n	<strong><span style="font-size: 14pt"><span style="color: navy"><span style="font-family: script mt bold">Please call the&nbsp\;James Borrego&nbsp\;at 505-473-0348 ex. 1 for ticket information or you may purchase tickets at Alpheagraphics\, 2002-C Cerrillos Road&nbsp\;or from members of the Santa Fe Hispanic Chamber of Commerce.&nbsp\; If you do not purchase your ticket in advance\, tickets may be available at the event on a first-come first-served basis..</span></span></span></strong><br />\n	&nbsp\;&nbsp\;<br />\n	&nbsp\;</div>\n
LOCATION:Governor's Mansion\, 1 Mansion Drive\, Santa Fe\, NM
UID:e.379.147
SEQUENCE:3
DTSTAMP:20260420T132256Z
URL:http://santafehispanicchamber.sampleorg.com/events/details/santa-fe-spanish-market-2012-reception-07-25-2012-147
END:VEVENT

END:VCALENDAR
