BEGIN:VCALENDAR
VERSION:2.0
PRODID:-//ChamberMaster//Event Calendar 2.0//EN
METHOD:PUBLISH
X-PUBLISHED-TTL:P3D
REFRESH-INTERVAL:P3D
CALSCALE:GREGORIAN
BEGIN:VEVENT
DTSTART:20130724T233000Z
DTEND:20130725T023000Z
X-MICROSOFT-CDO-ALLDAYEVENT:FALSE
SUMMARY:Santa Fe Spanish Market 2013 Reception
DESCRIPTION:The Santa Fe Hispanic Chamber of Commerce is proud to honor the artists of the Santa Fe Spanish Market 2013 at the Sixth Annual Spanish Market Reception. Please join us at the Scottish Rite Temple at 463 Paseo de Peralta\, Santa Fe\, NM.  The reception is from 5:30-8:30 pm.  Join us for some great entertainment\, food and drinks.\n\n	 \n\n	You may purchase tickets at Alphagraphics\, 2002-C Cerrillos Road or from members of the Santa Fe Hispanic Chamber of Commerce.  If you do not purchase your ticket in advance\, tickets may be available at the event on a first-come first-served basis..
X-ALT-DESC;FMTTYPE=text/html:<div>\n	<strong><span style="font-size: 14pt\;"><span style="color: navy\;"><span style="font-family: script mt bold\;">The Santa Fe Hispanic Chamber of Commerce is proud to honor the artists of the Santa Fe Spanish Market 2013 at the Sixth Annual Spanish Market Reception. Please join us at the Scottish Rite Temple at 463 Paseo de Peralta\, Santa Fe\, NM.&nbsp\; The reception is from 5:30-8:30 pm.&nbsp\; Join us for some great entertainment\, food and drinks.</span></span></span></strong><br />\n	&nbsp\;<br />\n	<strong><span style="font-size: 14pt\;"><span style="color: navy\;"><span style="font-family: script mt bold\;">You may purchase tickets at Alphagraphics\, 2002-C Cerrillos Road&nbsp\;or from members of the Santa Fe Hispanic Chamber of Commerce.&nbsp\; If you do not purchase your ticket in advance\, tickets may be available at the event on a first-come first-served basis..</span></span></span></strong><br />\n	&nbsp\;&nbsp\;<br />\n	&nbsp\;</div>\n
LOCATION:Scottish Rite Temple 463 Paseo de Peralta Santa Fe\, NM 87501
UID:e.379.159
SEQUENCE:3
DTSTAMP:20260419T180408Z
URL:http://santafehispanicchamber.sampleorg.com/events/details/santa-fe-spanish-market-2013-reception-07-24-2013-159
END:VEVENT

END:VCALENDAR
