BEGIN:VCALENDAR
VERSION:2.0
PRODID:-//ChamberMaster//Event Calendar 2.0//EN
METHOD:PUBLISH
X-PUBLISHED-TTL:P3D
REFRESH-INTERVAL:P3D
CALSCALE:GREGORIAN
BEGIN:VEVENT
DTSTART:20091029T150000Z
DTEND:20091029T183000Z
X-MICROSOFT-CDO-ALLDAYEVENT:FALSE
SUMMARY:Schedule C Can Get You Into Trouble!
DESCRIPTION:Schedule C Can Get You Into Trouble!Did you know that schedule C is atop priority for IRS audits? Learn more about the critical areas of Schedule C including the independent contractor definition\, New Mexico scope audits\, the hobby rule and more Hosted by the Santa Fe Business Incubator There is no fee for this workshop\,but seating is limited Sign Up Today! Go to www.nmsbdc.org/santafe
X-ALT-DESC;FMTTYPE=text/html:<div><font color="#cd0000" size="6" face="Elephant"><font color="#cd0000" size="6" face="Elephant"><font color="#cd0000" size="6" face="Elephant"><p style="text-align: center"><span style="font-size: large">Schedule C Can Get You Into Trouble!</span></p><font size="5" face="Elephant"><font size="5" face="Elephant"><p style="text-align: center"><span style="font-size: medium"><span style="color: #000000"><strong>Did you know that schedule C is a</strong></span></span></p><p style="text-align: center"><span style="font-size: medium"><span style="color: #000000"><strong>top priority for IRS audits?</strong></span></span></p></font></font></font></font></font></div><div style="text-align: center">&nbsp\;</div><div><font color="#cd0000" size="6" face="Elephant"><font color="#cd0000" size="6" face="Elephant"><font color="#cd0000" size="6" face="Elephant"><i><font size="5" face="FranklinGothicHeavy\,Italic"><font size="5" face="FranklinGothicHeavy\,Italic"><p style="text-align: left"><span style="font-size: small"><span style="color: #000000">Learn more about the critical areas of </span></span><span style="font-size: small"><span style="color: #000000">Schedule C </span></span></p><p style="text-align: left"><span style="font-size: small"><span style="color: #000000">including the independent</span></span> <span style="font-size: small"><span style="color: #000000">contractor definition\, New Mexico scope audits\, the hobby rule and more</span></span></p></font></font></i></font></font></font></div><div style="text-align: left"><p style="text-align: center">&nbsp\;</p></div><div><font color="#cd0000" size="6" face="Elephant"><font color="#cd0000" size="6" face="Elephant"><font color="#cd0000" size="6" face="Elephant"><i><font size="5" face="FranklinGothicHeavy\,Italic"><font size="5" face="FranklinGothicHeavy\,Italic"><span style="color: #000000"><font size="5" face="FranklinGothicHeavy"><font size="5" face="FranklinGothicHeavy"><p align="left"><strong><span style="font-size: small">Hosted by the Santa Fe Business Incubator</span></strong></p></font></font></span></font></font></i></font></font></font></div><div style="text-align: left">&nbsp\;<font color="#cd0000" size="6" face="Elephant"><font color="#cd0000" size="6" face="Elephant"><font color="#cd0000" size="6" face="Elephant"><i><font size="5" face="FranklinGothicHeavy\,Italic"><font size="5" face="FranklinGothicHeavy\,Italic"><span style="color: #000000"><font color="#cd0000" size="5" face="Elephant"><font color="#cd0000" size="5" face="Elephant"><font color="#cd0000" size="5" face="Elephant"><span style="font-size: small">There is no fee for this workshop\,</span><span style="font-size: small">but seating is limited </span><font color="#cd0000" size="6" face="Elephant"><font color="#cd0000" size="6" face="Elephant"><span style="font-size: small">Sign Up Today!</span></font></font></font></font></font></span></font></font></i></font></font></font></div><div style="text-align: left">&nbsp\;</div><div><font color="#cd0000" size="6" face="Elephant"><font color="#cd0000" size="6" face="Elephant"><font color="#cd0000" size="6" face="Elephant"><i><font size="5" face="FranklinGothicHeavy\,Italic"><font size="5" face="FranklinGothicHeavy\,Italic"><span style="color: #000000"><font color="#007c86" size="5" face="Elephant"><font color="#007c86" size="5" face="Elephant"><font color="#007c86" size="5" face="Elephant"><p style="text-align: left"><span style="font-size: small">Go to www.nmsbdc.org/santafe</span></p></font></font></font></span></font></font></i></font></font></font></div>
LOCATION:3900 Paseo del SolSanta Fe NM 87507
UID:e.379.83
SEQUENCE:3
DTSTAMP:20260422T203104Z
URL:http://santafehispanicchamber.sampleorg.com/events/details/schedule-c-can-get-you-into-trouble-10-29-2009-83
END:VEVENT

END:VCALENDAR
