BEGIN:VCALENDAR
VERSION:2.0
PRODID:-//ChamberMaster//Event Calendar 2.0//EN
METHOD:PUBLISH
X-PUBLISHED-TTL:P3D
REFRESH-INTERVAL:P3D
CALSCALE:GREGORIAN
BEGIN:VEVENT
DTSTART:20091028T150000Z
DTEND:20091028T180000Z
X-MICROSOFT-CDO-ALLDAYEVENT:FALSE
SUMMARY:Seminar-Guerilla Marketing Tactics
DESCRIPTION:Guerilla Marketing Tactics\nPresented by Ken Dettelback  Flex Your Marketing Muscles!\n  Get the word out without spending a lot of cash\n  Build strategic alliances\n  Make more money!\n\n\nAnd to get you started\, this workshop is\noffered at NO CHARGE!\nReserve Your Seat Now!\nVisit www.nmsbdc.org/santafe\nOr call 505-428-1343
X-ALT-DESC;FMTTYPE=text/html:<div><br /><span style="font-size: larger"><strong>Guerilla Marketing Tactics</strong></span><strong><br /></strong>Presented by Ken Dettelback</div><div>&nbsp\;</div><div>&nbsp\;</div><div><span style="color: #ff0000">Flex Your Marketing Muscles!<br /></span>&radic\; Get the word out without spending a lot of cash<br />&radic\; Build strategic alliances<br />&radic\; Make more money!<br /><br /><br />And to get you started\, this workshop is<br />offered at NO CHARGE!<br />Reserve Your Seat Now!<br />Visit <a href="http://www.nmsbdc.org/santafe">www.nmsbdc.org/santafe</a><br />Or call 505-428-1343<br />&nbsp\;</div>
LOCATION:At Santa Fe Community College
UID:e.379.82
SEQUENCE:3
DTSTAMP:20260422T203219Z
URL:http://santafehispanicchamber.sampleorg.com/events/details/seminar-guerilla-marketing-tactics-10-28-2009-82
END:VEVENT

END:VCALENDAR
