BEGIN:VCALENDAR
VERSION:2.0
PRODID:-//ChamberMaster//Event Calendar 2.0//EN
METHOD:PUBLISH
X-PUBLISHED-TTL:P3D
REFRESH-INTERVAL:P3D
CALSCALE:GREGORIAN
BEGIN:VEVENT
DTSTART:20130926T173000Z
DTEND:20130926T190000Z
X-MICROSOFT-CDO-ALLDAYEVENT:FALSE
SUMMARY:September Business Luncheon
DESCRIPTION:Please join us September 26th for our business luncheon.  Our guest speaker\, Cyndi Conn\, will share Creative Santa Fe's community efforts. Cyndi will speak on "Building Downtown Sustainability: One Step at a Time" "We all want downtown Santa Fe to be a showcase for visitors\, a center of vibrant activity for citizens to live\, work and play\, and an economically inviting locale for businesses to flourish."  What role do we all play to make this a reality?
X-ALT-DESC;FMTTYPE=text/html:<span style="font-size: 13px\; font-family: Arial\, ' Helvetica'\, ' sans-serif'\;">Please join us&nbsp\;<span class="aBn" data-term="goog_345755142" style="border-bottom-width: 1px\; border-bottom-style: dashed\; border-bottom-color: rgb(204\, 204\, 204)\; position: relative\; top: -2px\; z-index: 0\;" tabindex="0"><span class="aQJ" style="position: relative\; top: 2px\; z-index: -1\;">September 26th</span></span>&nbsp\;for our business luncheon. &nbsp\;Our guest speaker\, Cyndi Conn\, will share Creative Santa Fe&#39\;s community efforts. Cyndi will speak on&nbsp\;&quot\;Building Downtown Sustainability: One Step at a Time&quot\;&nbsp\;</span><span style="font-size: 10pt\; font-family: Arial\, ' Helvetica'\, ' sans-serif'\;"><em>&quot\;We all want downtown Santa Fe to be a showcase for visitors\, a center of vibrant activity for citizens to live\, work and play\, and an economically inviting locale for businesses to flourish.&quot\;&nbsp\;</em>&nbsp\;What role do we all play to make this a reality?&nbsp\;</span>
LOCATION:Casa Chimayo will host the lunch and it promises to be business focused and informative. The cost is $20 per person and all are invited. Casa Chimayo is located at 409 West Water Street\, Santa Fe\, NM If you want to RSVP or more information on luncheon tickets please call (505) 847-6707 or email sfhispaniccc@gmail.com
UID:e.379.162
SEQUENCE:3
DTSTAMP:20260419T150440Z
URL:http://santafehispanicchamber.sampleorg.com/events/details/september-business-luncheon-09-26-2013-162
END:VEVENT

END:VCALENDAR
