BEGIN:VCALENDAR
VERSION:2.0
PRODID:-//ChamberMaster//Event Calendar 2.0//EN
METHOD:PUBLISH
X-PUBLISHED-TTL:P3D
REFRESH-INTERVAL:P3D
CALSCALE:GREGORIAN
BEGIN:VEVENT
DTSTART:20090221T163000Z
DTEND:20090221T173000Z
X-MICROSOFT-CDO-ALLDAYEVENT:FALSE
SUMMARY:SFCC Board candidate Andrea Bermudez Q and A
DESCRIPTION:Question and Answer opportunity with Andrea Bermudez\, Position 2 SF Community College Board candidate. Come talk with Andrea Bermudez and find out what her vision for the future of SFCC is and why she hopes to serve our community as a SFCC Governing Board member.
X-ALT-DESC;FMTTYPE=text/html:<div>&nbsp\;&nbsp\;</div><div><font size="3">Question and Answer opportunity with <strong>Andrea Bermudez</strong>\, Position 2 SF Community College Board candidate. Come talk with Andrea Bermudez and find out what her vision for the future of SFCC is and why she hopes to serve our community as a SFCC Governing Board member.</font></div>
LOCATION:6005 Jaguar Drive\,Unit 101\,SF NM 87507
UID:e.379.18
SEQUENCE:3
DTSTAMP:20260423T082959Z
URL:http://santafehispanicchamber.sampleorg.com/events/details/sfcc-board-candidate-andrea-bermudez-q-and-a-02-21-2009-18
END:VEVENT

END:VCALENDAR
