BEGIN:VCALENDAR
VERSION:2.0
PRODID:-//ChamberMaster//Event Calendar 2.0//EN
METHOD:PUBLISH
X-PUBLISHED-TTL:P3D
REFRESH-INTERVAL:P3D
CALSCALE:GREGORIAN
BEGIN:VEVENT
DTSTART:20100807T140000Z
DTEND:20100807T183000Z
X-MICROSOFT-CDO-ALLDAYEVENT:FALSE
SUMMARY:SFHCC Accessing Funding Sources Seminar (Choose Spanish or English)
DESCRIPTION:Separate English and Spanish seminars presented by The Loan Fund\, Accion\, Wesst and other local funding sources. \n \nCo-sponsored by City of Santa Fe Economic Development\,  Guadalupe Credit Union and New Mexico Bank & Trust in Santa Fe.
X-ALT-DESC;FMTTYPE=text/html:<div>Separate English and Spanish seminars presented by The Loan Fund\, Accion\, Wesst and other local funding sources. <br /> <br />Co-sponsored by City of Santa Fe Economic Development\,  Guadalupe Credit Union and New Mexico Bank &amp\; Trust in Santa Fe.</div>
LOCATION:Courtyard Marriott Santa Fe 3347 Cerrillos Road Santa Fe\, NM 87507
UID:e.379.103
SEQUENCE:3
DTSTAMP:20260422T041756Z
URL:http://santafehispanicchamber.sampleorg.com/events/details/sfhcc-accessing-funding-sources-seminar-choose-spanish-or-english-08-07-2010-103
END:VEVENT

END:VCALENDAR
