BEGIN:VCALENDAR
VERSION:2.0
PRODID:-//ChamberMaster//Event Calendar 2.0//EN
METHOD:PUBLISH
X-PUBLISHED-TTL:P3D
REFRESH-INTERVAL:P3D
CALSCALE:GREGORIAN
BEGIN:VEVENT
DTSTART:20101218T000000Z
DTEND:20101218T030000Z
X-MICROSOFT-CDO-ALLDAYEVENT:FALSE
SUMMARY:SFHCC Christmas Party
DESCRIPTION:Member's Christmas Party
X-ALT-DESC;FMTTYPE=text/html:Member's Christmas Party
LOCATION:
UID:e.379.119
SEQUENCE:3
DTSTAMP:20260421T192745Z
URL:http://santafehispanicchamber.sampleorg.com/events/details/sfhcc-christmas-party-12-17-2010-119
END:VEVENT

END:VCALENDAR
