BEGIN:VCALENDAR
VERSION:2.0
PRODID:-//ChamberMaster//Event Calendar 2.0//EN
METHOD:PUBLISH
X-PUBLISHED-TTL:P3D
REFRESH-INTERVAL:P3D
CALSCALE:GREGORIAN
BEGIN:VEVENT
DTSTART:20100615T233000Z
DTEND:20100616T010000Z
X-MICROSOFT-CDO-ALLDAYEVENT:FALSE
SUMMARY:SFHCC June 2010 Membership Meeting
DESCRIPTION:5:30 p.m. Networking -Cash Bar \n6:00 p.m. Short Meeting Members and non-members may pickup SFHCC July 21\, 2010 Spanish Market Reception tickets at 25.00 per ticket.  This event is to support the Santa Fe Hispanic Chamber of Commerce
X-ALT-DESC;FMTTYPE=text/html:<div>5:30 p.m. Networking -Cash Bar <br />6:00 p.m. Short Meeting</div><div>&nbsp\;</div><div>Members and non-members may pickup SFHCC July 21\, 2010 Spanish Market Reception tickets at 25.00 per ticket.&nbsp\;&nbsp\;This event is to support the Santa Fe Hispanic Chamber of Commerce</div>
LOCATION:La Taqueria\, 416 Agua Fria\, Santa Fe\, NM 87501 Across from Our Lady of Guadalupe Church
UID:e.379.104
SEQUENCE:3
DTSTAMP:20260422T071915Z
URL:http://santafehispanicchamber.sampleorg.com/events/details/sfhcc-june-2010-membership-meeting-06-15-2010-104
END:VEVENT

END:VCALENDAR
