BEGIN:VCALENDAR
VERSION:2.0
PRODID:-//ChamberMaster//Event Calendar 2.0//EN
METHOD:PUBLISH
X-PUBLISHED-TTL:P3D
REFRESH-INTERVAL:P3D
CALSCALE:GREGORIAN
BEGIN:VEVENT
DTSTART:20090818T233000Z
DTEND:20090819T013000Z
X-MICROSOFT-CDO-ALLDAYEVENT:FALSE
SUMMARY:SFHCC Membership Meeting
DESCRIPTION:Membership Meeting\, Tues. August 18\, 2009Courtyard Marriott\, 5:30 - 7:30 pmSpeaker: Michael A. Olivas\, PhD a native of New Mexico\, an accomplished attorney\, businessman\, author and recognized lifetime achievement awards in MALDEF and The Hispanic Bar Association of Houston.
X-ALT-DESC;FMTTYPE=text/html:<h3>Membership Meeting\, Tues. August 18\, 2009</h3><h3>Courtyard Marriott\, 5:30 - 7:30 pm</h3><h3>Speaker: Michael A.&nbsp\;Olivas\, PhD a native of New Mexico\,&nbsp\;an accomplished attorney\, businessman\, author and recognized lifetime achievement awards in MALDEF and The Hispanic Bar Association of Houston.</h3>
LOCATION:
UID:e.379.77
SEQUENCE:3
DTSTAMP:20260422T235413Z
URL:http://santafehispanicchamber.sampleorg.com/events/details/sfhcc-membership-meeting-08-18-2009-77
END:VEVENT

END:VCALENDAR
