BEGIN:VCALENDAR
VERSION:2.0
PRODID:-//ChamberMaster//Event Calendar 2.0//EN
METHOD:PUBLISH
X-PUBLISHED-TTL:P3D
REFRESH-INTERVAL:P3D
CALSCALE:GREGORIAN
BEGIN:VEVENT
DTSTART:20111102T233000Z
DTEND:20111102T233000Z
X-MICROSOFT-CDO-ALLDAYEVENT:FALSE
SUMMARY:SFHCC presents "Meet Your Candidate"
DESCRIPTION:Please join us to meet and talk to your candidates for upcoming elections!  Share some chips and salsa\, and help yourself to the no-host bar for a refreshing drink
X-ALT-DESC;FMTTYPE=text/html:<span style="font-size: 12pt"><span style="font-family: times new roman">Please join us to meet and talk to your candidates for upcoming elections!&nbsp\; Share some chips and salsa\, and help yourself to the no-host bar for a refreshing drink&nbsp\;</span></span>
LOCATION:Inn of the Governors large ballroom 101 West Alameda Street Santa Fe\, NM 87501
UID:e.379.138
SEQUENCE:3
DTSTAMP:20260421T024359Z
URL:http://santafehispanicchamber.sampleorg.com/events/details/sfhcc-presents-meet-your-candidate-11-02-2011-138
END:VEVENT

END:VCALENDAR
