BEGIN:VCALENDAR
VERSION:2.0
PRODID:-//ChamberMaster//Event Calendar 2.0//EN
METHOD:PUBLISH
X-PUBLISHED-TTL:P3D
REFRESH-INTERVAL:P3D
CALSCALE:GREGORIAN
BEGIN:VEVENT
DTSTART:20100721T233000Z
DTEND:20100722T020000Z
X-MICROSOFT-CDO-ALLDAYEVENT:FALSE
SUMMARY:SFHCC Spanish Market Reception
DESCRIPTION:Meet Spanish Artists of the 2010 Spanish Market \nTaste Spanish Cuisine \nLearn about Spanish Art History Music by: Miguel Romero & Roberto Gonzalesplaying Flamenco\, Classical Spanish Ballads\, Rumbas
X-ALT-DESC;FMTTYPE=text/html:<div>Meet Spanish Artists of the 2010 Spanish Market <br />Taste Spanish Cuisine <br />Learn about Spanish Art History</div><div>&nbsp\;</div><div>Music by: Miguel Romero &amp\; Roberto Gonzales</div><div>playing Flamenco\, Classical Spanish Ballads\, Rumbas</div><div>&nbsp\;</div>
LOCATION:Museum of Spanish Colonial Arts 750 Camino Lejo (Museum Hill) Santa Fe\, NM
UID:e.379.99
SEQUENCE:3
DTSTAMP:20260422T054643Z
URL:http://santafehispanicchamber.sampleorg.com/events/details/sfhcc-spanish-market-reception-07-21-2010-99
END:VEVENT

END:VCALENDAR
