BEGIN:VCALENDAR
VERSION:2.0
PRODID:-//ChamberMaster//Event Calendar 2.0//EN
METHOD:PUBLISH
X-PUBLISHED-TTL:P3D
REFRESH-INTERVAL:P3D
CALSCALE:GREGORIAN
BEGIN:VEVENT
DTSTART:20130321T233000Z
DTEND:20130322T013000Z
X-MICROSOFT-CDO-ALLDAYEVENT:FALSE
SUMMARY:Terra Bella Networking and Music
DESCRIPTION:Please join us to break bread\, share beverages\, mingle and listen to wonderful music by Terra Bella's own\, Nidia V Cuarteto Romantico. Se Complace En Invitar A Usted\, It's our pleasure to invite our friends\, neighbors and membership of the Santa Fe Hispano Chamber "PARA UNA GRAN FIESTA
X-ALT-DESC;FMTTYPE=text/html:<span style="font-family:times new roman\;"><span style="font-size:14.0pt\;">Please join us to break bread\, share beverages\, mingle and listen to wonderful music by Terra Bella&#39\;s own\, Nidia V Cuarteto Romantico. Se Complace En Invitar A Usted\, It&#39\;s our pleasure to invite our friends\, neighbors and membership of the Santa Fe Hispano Chamber &quot\;PARA UNA GRAN FIESTA</span></span>
LOCATION:TIERRA BELLA Artful Interiors 2900 Cerrillos Road\, Santa Fe NM
UID:e.379.154
SEQUENCE:3
DTSTAMP:20260420T014105Z
URL:http://santafehispanicchamber.sampleorg.com/events/details/terra-bella-networking-and-music-03-21-2013-154
END:VEVENT

END:VCALENDAR
