BEGIN:VCALENDAR
VERSION:2.0
PRODID:-//ChamberMaster//Event Calendar 2.0//EN
METHOD:PUBLISH
X-PUBLISHED-TTL:P3D
REFRESH-INTERVAL:P3D
CALSCALE:GREGORIAN
BEGIN:VEVENT
DTSTART;VALUE=DATE:20081203
DTEND;VALUE=DATE:20081208
TRANSP:TRANSPARENT
X-MICROSOFT-CDO-ALLDAYEVENT:TRUE
SUMMARY:TRIBUTE TO ELISEO MEDINA
DESCRIPTION:The Santa Fe Film Festival is Dec. 3   7.  Premiering will be local New Mexican films\, new American and foreign films including revivals\, retrospectives\, and independent productions. Film tickets are only $10. In addition\, complimentary workshops/panels featuring distinguished guests with vast knowledge of all aspects of film are planned.  The schedule also includes events and parties at some really fun places in Santa Fe\, most follow the showing of a film(s). You're sure to run into friends and meet plenty of folks that like to have a good time!   The online Santa Fe New Mexican has their "PasaTiempo" with the 2008 Santa Fe Film Festival guide. This is a convenient way to see what's being offered: http://www.epasatiempo.com/ee/newmexican/index.php You can also visit the Film Festival website at http://www.santafefilmfestival to see the full program and purchase tickets.\n\nSo\, come have fun with Santa Fe in December. It will help the support Santa Fe arts\, culture\, and economy. Plus\, it'll be a whole lot of fun!!!
X-ALT-DESC;FMTTYPE=text/html:<div><p class="EC_MsoNormal"><font face="Biondi" color="#003366" size="2"><span style="font-weight: bold\; font-size: 14pt\; color: #003366\; font-family: Biondi">The Santa Fe Film Festival is Dec. 3 &ndash\; 7</span></font><font face="Engravers MT" size="4"><span style="font-size: 14pt\; font-family: &rsquo\;Engravers MT&rsquo\;">.</span></font><font face="Verdana"><span style="font-family: Verdana"> </span></font><span class="EC_text1"><font face="Verdana" color="#000000"><span style="font-family: Verdana">&nbsp\;<font size="2">Premiering will be local New Mexican films\, new American and foreign films including revivals\, retrospectives\, and independent productions. </font></span></font></span><font size="2"><strong><font face="Verdana"><span style="font-weight: bold\; font-family: Verdana">Film tickets are only $10</span></font></strong><font face="Verdana"><span style="font-family: Verdana">. In addition\, complimentary</span></font><font face="Verdana"><span style="font-family: Verdana"> workshops/panels featuring distinguished guests with vast knowledge of all aspects of film are planned.</span></font></font><font face="Verdana"><span style="font-family: Verdana"> &nbsp\;</span></font></p><p class="EC_MsoNormal"><font face="Verdana" size="3"><span style="font-weight: bold\; font-size: 12pt\; font-family: Verdana"><font size="2">The schedule also includes events and parties at some really fun places in Santa Fe\, most follow the showing of a film(s). You&rsquo\;re sure to run into friends and meet plenty of folks that like to have a good time!</font>&nbsp\; </span></font></p><p class="EC_MsoNormal">&nbsp\;<font size="2"><font face="Verdana"><span style="font-size: 12pt\; font-family: Verdana"><font size="2">The online Santa Fe New Mexican has their &ldquo\;PasaTiempo&rdquo\; with the</font> </span></font><font face="Verdana"><span style="font-family: Verdana">2008 Santa Fe Film Festival guide. This is a convenient way to see what&rsquo\;s being offered: <a title="http://www.epasatiempo.com/ee/newmexican/index.php" target="_blank" href="http://www.epasatiempo.com/ee/newmexican/index.php"><font color="#0068cf">http://www.epasatiempo.com/ee/newmexican/index.php</font></a></span></font></font></p><p class="EC_MsoNormal"><font face="Verdana" size="3"><span style="font-size: 12pt\; font-family: Verdana">&nbsp\;</span></font><font face="Verdana"><span style="font-size: 12pt\; font-family: Verdana"><font size="2">You can also visit the Film Festival website at </font><a title="http://www.santafefilmfestival/" target="_blank" href="http://www.santafefilmfestival/"><font color="#0068cf" size="2">http://www.santafefilmfestival</font></a><font size="2"> to see the full program and purchase tickets.<br /><br /></font></span></font></p><p class="EC_MsoNormal"><font face="Verdana" size="3"><span style="font-size: 12pt\; font-family: Verdana"><font size="2">So\, come have fun with Santa Fe in December. It will help the support Santa Fe arts\, culture\, and economy. Plus\, it&rsquo\;ll be a whole lot of fun!!!</font> </span></font></p></div>
LOCATION:NM Film Museum418 Montezuma Ave
UID:e.379.11
SEQUENCE:3
DTSTAMP:20260423T114500Z
URL:http://santafehispanicchamber.sampleorg.com/events/details/tribute-to-eliseo-medina-12-03-2008-11
END:VEVENT

END:VCALENDAR
