BEGIN:VCALENDAR
VERSION:2.0
PRODID:-//ChamberMaster//Event Calendar 2.0//EN
METHOD:PUBLISH
X-PUBLISHED-TTL:P3D
REFRESH-INTERVAL:P3D
CALSCALE:GREGORIAN
BEGIN:VEVENT
DTSTART;VALUE=DATE:20080924
DTEND;VALUE=DATE:20080928
TRANSP:TRANSPARENT
X-MICROSOFT-CDO-ALLDAYEVENT:TRUE
SUMMARY:US Hispanic Chamber of Commerce Convention
DESCRIPTION:go to:\n\n \n\nwww.USHCC.com
X-ALT-DESC;FMTTYPE=text/html:<div><font size="7">go to:</font></div>\n\n<div>&nbsp\;</div>\n\n<div><a href="http://www.USHCC.com"><font size="7">www.USHCC.com</font></a></div>\n
LOCATION:Sacramento\, California
UID:e.379.2
SEQUENCE:3
DTSTAMP:20260423T164219Z
URL:http://santafehispanicchamber.sampleorg.com/events/details/us-hispanic-chamber-of-commerce-convention-09-24-2008-2
END:VEVENT

END:VCALENDAR
