BEGIN:VCALENDAR
VERSION:2.0
PRODID:-//ChamberMaster//Event Calendar 2.0//EN
METHOD:PUBLISH
X-PUBLISHED-TTL:P3D
REFRESH-INTERVAL:P3D
CALSCALE:GREGORIAN
BEGIN:VEVENT
DTSTART;VALUE=DATE:20100916
DTEND;VALUE=DATE:20100921
TRANSP:TRANSPARENT
X-MICROSOFT-CDO-ALLDAYEVENT:TRUE
SUMMARY:Viva La Fiesta de Santa Fe!
DESCRIPTION:Viva La Fiesta de Santa Fe
X-ALT-DESC;FMTTYPE=text/html:Viva La Fiesta de Santa Fe 
LOCATION:Santa Fe\, New Mexico
UID:e.379.116
SEQUENCE:3
DTSTAMP:20260422T024403Z
URL:http://santafehispanicchamber.sampleorg.com/events/details/viva-la-fiesta-de-santa-fe-09-16-2010-116
END:VEVENT

END:VCALENDAR
