BEGIN:VCALENDAR
VERSION:2.0
PRODID:-//ChamberMaster//Event Calendar 2.0//EN
METHOD:PUBLISH
X-PUBLISHED-TTL:P3D
REFRESH-INTERVAL:P3D
CALSCALE:GREGORIAN
BEGIN:VEVENT
DTSTART:20090523T044500Z
DTEND:20090522T180000Z
X-MICROSOFT-CDO-ALLDAYEVENT:FALSE
SUMMARY:Youth Entrepreneurial Workshop
DESCRIPTION:Youth Entrepreneurial Workshops in Coordination With Local High Schools:  Free 2 Day Workshop Educational Leadership and Writing a Small Business Plan. Entrepreneurship EducationEntrepreneurship education is not just about teaching someone to run a business. It is also about encouraging creative thinking and promoting a strong sense of self-worth and accountability. Through entrepreneurship education\, students learn how to create a business\, but they also learn a lot more.The core knowledge created via entrepreneurship education includes:The ability to recognize opportunities in one's life. The ability to pursue such opportunities by generating new ideas and marshaling needed  resources. \n\nThe ability to create and operate a new venture. \n\nThe ability to think in a creative and critical manner.
X-ALT-DESC;FMTTYPE=text/html:<div><div align="center"><font style="background-color: #ffffff" color="#000080" size="3"><strong>Youth Entrepreneurial Workshops in Coordination With Local High Schools:</strong></font></div><div align="center"><font size="3"><strong>&nbsp\; </strong></font></div><div><font size="3"><strong>Free 2 Day Workshop</strong></font></div><div><font size="3"><strong>&nbsp\;</strong></font></div><div><font size="3"><strong>Educational Leadership and Writing a Small Business Plan.</strong></font></div><div><strong>&nbsp\;</strong></div><div><font size="3"><font face="Times New Roman\,Times New Roman" color="#221e1f" size="3"><font face="Times New Roman\,Times New Roman" color="#221e1f" size="3"><font face="Times New Roman\,Times New Roman" color="#221e1f" size="3"><font color="#221e1f" size="4"><font color="#221e1f" size="4"><p align="center"><strong>Entrepreneurship Education</strong></p></font></font><font face="Times New Roman\,Times New Roman" color="#221e1f" size="3"><font face="Times New Roman\,Times New Roman" color="#221e1f" size="3"><font face="Times New Roman\,Times New Roman" color="#221e1f" size="3"><p>Entrepreneurship education is not just about teaching someone to run a business. It is also about encouraging creative thinking and promoting a strong sense of self-worth and accountability. Through entrepreneurship education\, students learn how to create a business\, but they also learn a lot more<strong>.</strong></p><p><strong>The core knowledge created via entrepreneurship education includes:</strong></p><ul><li><font size="3"><font face="Times New Roman\,Times New Roman" color="#221e1f" size="3"><font face="Times New Roman\,Times New Roman" color="#221e1f" size="3"><font face="Times New Roman\,Times New Roman" color="#221e1f" size="3">The ability to recognize opportunities in one&rsquo\;s life.&nbsp\;</font></font></font></font></li></ul></font></font></font></font></font></font></font></div><ul><li><font size="3"><font face="Times New Roman\,Times New Roman" color="#221e1f" size="3"><font face="Times New Roman\,Times New Roman" color="#221e1f" size="3"><font face="Times New Roman\,Times New Roman" color="#221e1f" size="3">The ability to pursue such opportunities by generating new ideas and marshaling needed&nbsp\; resources.&nbsp\;<br /><br /></font></font></font></font></li><li><font size="3"><font face="Times New Roman\,Times New Roman" color="#221e1f" size="3"><font face="Times New Roman\,Times New Roman" color="#221e1f" size="3"><font face="Times New Roman\,Times New Roman" color="#221e1f" size="3">The ability to create and operate a new venture.&nbsp\;<br /><br /></font></font></font></font></li><li><font size="3"><font face="Times New Roman\,Times New Roman" color="#221e1f" size="3"><font face="Times New Roman\,Times New Roman" color="#221e1f" size="3"><font face="Times New Roman\,Times New Roman" color="#221e1f" size="3">The ability to think in a creative and critical manner. </font></font></font></font></li></ul></div>
LOCATION:Espanola Valley High School 714 Calle Don Diego Espanola\, NM 87532
UID:e.379.40
SEQUENCE:3
DTSTAMP:20260423T035321Z
URL:http://santafehispanicchamber.sampleorg.com/events/details/youth-entrepreneurial-workshop-05-22-2009-40
END:VEVENT

END:VCALENDAR
