BEGIN:VCALENDAR
VERSION:2.0
PRODID:-//ChamberMaster//Event Calendar 2.0//EN
METHOD:PUBLISH
X-PUBLISHED-TTL:P3D
REFRESH-INTERVAL:P3D
CALSCALE:GREGORIAN
BEGIN:VEVENT
DTSTART:20090527T193000Z
DTEND:20090527T211500Z
X-MICROSOFT-CDO-ALLDAYEVENT:FALSE
SUMMARY:Youth Entrepreneurial Workshop
DESCRIPTION:Youth Entrepreneurial Workshops in Coordination With Local High Schools: 2 Day Workshop Educational Leadership and Writing a Small Business Plan.
X-ALT-DESC;FMTTYPE=text/html:<div align="center"><strong>Youth Entrepreneurial Workshops in Coordination With Local High Schools:</strong></div><div>&nbsp\;</div><div>2 Day Workshop</div><div>&nbsp\;</div><div>Educational Leadership and Writing a Small Business Plan.</div>
LOCATION:Capitol High School. 4851 Paseo Del Sol Santa Fe\, NM 87507
UID:e.379.39
SEQUENCE:3
DTSTAMP:20260423T035321Z
URL:http://santafehispanicchamber.sampleorg.com/events/details/youth-entrepreneurial-workshop-05-27-2009-39
END:VEVENT

END:VCALENDAR
