BEGIN:VCALENDAR
VERSION:2.0
PRODID:-//ChamberMaster//Event Calendar 2.0//EN
METHOD:PUBLISH
X-PUBLISHED-TTL:P3D
REFRESH-INTERVAL:P3D
CALSCALE:GREGORIAN
BEGIN:VEVENT
DTSTART:20090530T044500Z
DTEND:20090529T180000Z
X-MICROSOFT-CDO-ALLDAYEVENT:FALSE
SUMMARY:Youth Entrepreneurial Workshop
DESCRIPTION:Youth Entrepreneurial Workshops in coordination with local High Schools:2 Day WorkshopEducational Leadership and Writing a Small Business Plan.
X-ALT-DESC;FMTTYPE=text/html:<p align="center"><strong>Youth Entrepreneurial Workshops in coordination with local High Schools:</strong></p><p align="left">2 Day Workshop</p><p align="left">Educational Leadership and Writing a Small Business Plan.</p>
LOCATION:Espanola Valley High School714 Calle Don Diego Espanola\, NM 87532
UID:e.379.41
SEQUENCE:3
DTSTAMP:20260423T035322Z
URL:http://santafehispanicchamber.sampleorg.com/events/details/youth-entrepreneurial-workshop-05-29-2009-41
END:VEVENT

END:VCALENDAR
